BEGIN:VCALENDAR
VERSION:2.0
PRODID:-//De Parel van Zuilen - ECPv6.15.20//NONSGML v1.0//EN
CALSCALE:GREGORIAN
METHOD:PUBLISH
X-ORIGINAL-URL:https://www.deparelvanzuilen.nl
X-WR-CALDESC:Evenementen voor De Parel van Zuilen
REFRESH-INTERVAL;VALUE=DURATION:PT1H
X-Robots-Tag:noindex
X-PUBLISHED-TTL:PT1H
BEGIN:VTIMEZONE
TZID:UTC
BEGIN:STANDARD
TZOFFSETFROM:+0000
TZOFFSETTO:+0000
TZNAME:UTC
DTSTART:20190101T000000
END:STANDARD
END:VTIMEZONE
BEGIN:VEVENT
DTSTART;TZID=UTC:20200601T201500
DTEND;TZID=UTC:20200601T220000
DTSTAMP:20260422T191226
CREATED:20200106T114043Z
LAST-MODIFIED:20200529T164445Z
UID:10505-1591042500-1591048800@www.deparelvanzuilen.nl
SUMMARY:Louisiana Radio Reünieconcert | Gecancelled
DESCRIPTION:30 jaar Louisiana Radio\, reünie concert!\nDe opmerking dat deze groep muzikanten klinkt ‘als een radio-uitzending vanuit Louisiana’ brengt in 1990 de bandnaam tot stand. Ze begonnen als huisorkest bij het destijds roemruchte Mad Mick & Big Mamou. Amper een jaar na hun eerste optreden ligt de debuut-cd in de winkel en staat Louisiana Radio geprogrammeerd bij talloze evenementen\, waaronder NorthSea Jazz\, Bospop\, Parkpop en het hoofdpodium van de Uitmarkt. \nDe muziek van Louisiana Radio vindt zijn wortels in de Cajun en Zydeco en is vermengd met invloeden uit New Orleans en de Mississippi Delta. Deze combinatie blijkt een groot publiek aan te spreken; de band vindt moeiteloos zijn weg langs menig pop-\, blues-\, jazz-\, folk- en countryfestival. \nDe smeltkroes van muziekstijlen zoals ontstaan in deze 18e staat van de Verenigde Staten\, wordt door Louisiana Radio op eigen wijze naar Europa teruggebracht. De zelfgeschreven Bayou Music vormt een aangenaam tegenwicht voor het sterke feestkarakter van hun Zydeco songs. \nIn 2000\, na 6 albums en 1200 concerten\, stopt de band ‘voor onbepaalde tijd’. Eens in de zoveel jaar wordt er reünie concert gepland. Exclusief voor de Parelsessies vanavond een semi-akoestisch optreden in de originele vijfmans bezetting uit de hoogtijdagen. \nLouisiana Radio bestaat uit Arend Bouwmeester\, sax en percussie\, Onno Kuipers\, accordeon en trekzak\, Arthur Bont\, drums en zang\, Rob Verheem\, bas en zang\, Hans de Vries\, zang en gitaar en mondharmonica. \nKlik hier voor meer info en hier voor een voorproefje. \nbent u nu teleurgesteld dat dit concert is uitverkocht? Geen nood\, we gaan het nog een keertje doen en wel op 15 juni !!!! \nEn wil je voorafgaand aan het concert komen eten in ons restaurant\, reserveer dan je plaats via onderstaande bookdinnersknop.
URL:https://www.deparelvanzuilen.nl/events/louisiana-radio-reunieconcert/
ATTACH;FMTTYPE=image/jpeg:https://www.deparelvanzuilen.nl/wp-content/uploads/2020/01/LouisianaRadio1A-003.jpg
END:VEVENT
BEGIN:VEVENT
DTSTART;TZID=UTC:20200608T201500
DTEND;TZID=UTC:20200608T220000
DTSTAMP:20260422T191226
CREATED:20200204T122450Z
LAST-MODIFIED:20200529T170545Z
UID:10919-1591647300-1591653600@www.deparelvanzuilen.nl
SUMMARY:Celeigh Cardinal | Gecancelled
DESCRIPTION:Celeigh Cardinal is een Métis-muzikante uit het vredesland van Alberta. De Métis is een bevolkingsgroep in Canada en de Verenigde Staten. In de Verenigde Staten noemen ze zichzelf vaak Michif – een benaming die ook voor de taal wordt gebruikt. Ze stammen af van de inheemse volkeren Ayisiniwak\, Ojibweg en Mamaceqtaw en van Franse\, Schotse en Engelse pelshandelaren en kolonisten. \nHaar contralto-stem grijpt terug naar vroegere tijden van blues en het gouden tijdperk van jazz. Haar oprechte\, biografisch geïnspireerde liedjes combineren ziel en emotie \nCeleigh Cardinal’s break-out debuut-LP Everything and Nothing in 2018\, leverde haar de titel van inheemse artiest van het jaar op bij de Canadian Music Awards. Het zijn soulvolle nummers met thema’s als liefde\, verdriet\, verlangen en thuisland. De nieuwe LP toont op briljante wijze de betoverende tegenstem van Cardinal; zijn warmte\, kracht\, bereik en nuance doen denken aan Bonnie Raitt en Adele. Naast haar op het podium staan ​​Brayden Treble op gitaar\, MJ Dandeneau op contrabas en Brennen Cameron op piano en mandoline. \n“Celeigh wordt betiteld als één van de geweldige stemmen die deel uitmaken van de inheemse Canadese muziekscene.” – Doug Cox\, artistiek directeur van Vancouver Island MusicFest \nEen kaartje is € 15\,– en is hieronder te bestellen. \nEn wil je voorafgaand aan het concert komen eten in ons restaurant\, reserveer dan je plaats via onderstaande bookdinnersknop.
URL:https://www.deparelvanzuilen.nl/events/celeigh-cardinal/
ATTACH;FMTTYPE=image/jpeg:https://www.deparelvanzuilen.nl/wp-content/uploads/2020/02/Celeigh-Cardinal.jpg
END:VEVENT
BEGIN:VEVENT
DTSTART;TZID=UTC:20200615T201500
DTEND;TZID=UTC:20200615T220000
DTSTAMP:20260422T191226
CREATED:20200121T120853Z
LAST-MODIFIED:20200529T165317Z
UID:10805-1592252100-1592258400@www.deparelvanzuilen.nl
SUMMARY:In de herhaling: Louisiana Radio | Gecancelled
DESCRIPTION:30 jaar Louisiana Radio\, reünie concert!\nDe opmerking dat deze groep muzikanten klinkt ‘als een radio-uitzending vanuit Louisiana’ brengt in 1990 de bandnaam tot stand. Ze begonnen als huisorkest bij het destijds roemruchte Mad Mick & Big Mamou. Amper een jaar na hun eerste optreden ligt de debuut-cd in de winkel en staat Louisiana Radio geprogrammeerd bij talloze evenementen\, waaronder NorthSea Jazz\, Bospop\, Parkpop en het hoofdpodium van de Uitmarkt. \nDe muziek van Louisiana Radio vindt zijn wortels in de Cajun en Zydeco en is vermengd met invloeden uit New Orleans en de Mississippi Delta. Deze combinatie blijkt een groot publiek aan te spreken; de band vindt moeiteloos zijn weg langs menig pop-\, blues-\, jazz-\, folk- en countryfestival. \nDe smeltkroes van muziekstijlen zoals ontstaan in deze 18e staat van de Verenigde Staten\, wordt door Louisiana Radio op eigen wijze naar Europa teruggebracht. De zelfgeschreven Bayou Music vormt een aangenaam tegenwicht voor het sterke feestkarakter van hun Zydeco songs. \nIn 2000\, na 6 albums en 1200 concerten\, stopt de band ‘voor onbepaalde tijd’. Eens in de zoveel jaar wordt er reünie concert gepland. Exclusief voor de Parelsessies vanavond een semi-akoestisch optreden in de originele vijfmans bezetting uit de hoogtijdagen. \nLouisiana Radio bestaat uit Arend Bouwmeester\, sax en percussie\, Onno Kuipers\, accordeon en trekzak\, Arthur Bont\, drums en zang\, Rob Verheem\, bas en zang\, Hans de Vries\, zang en gitaar en mondharmonica. \nKlik hier voor meer info en hier voor een voorproefje. \nEen kaartje is 15\,- en is hieronder te bestellen. \nEn wil je voorafgaand aan het concert komen eten in ons restaurant\, reserveer dan je plaats via onderstaande bookdinnersknop.
URL:https://www.deparelvanzuilen.nl/events/in-de-herhaling-louisiana-radio/
ATTACH;FMTTYPE=image/jpeg:https://www.deparelvanzuilen.nl/wp-content/uploads/2020/01/LouisianaRadio1A-003.jpg
END:VEVENT
BEGIN:VEVENT
DTSTART;TZID=UTC:20200622T201500
DTEND;TZID=UTC:20200622T220000
DTSTAMP:20260422T191226
CREATED:20200212T104937Z
LAST-MODIFIED:20200529T170617Z
UID:10948-1592856900-1592863200@www.deparelvanzuilen.nl
SUMMARY:South Mountain | Gecancelled
DESCRIPTION:De term ‘energiek’ wordt vaak gebruikt bij het beschrijven van de Canadese formatie South Mountain. Het is een erkenning voor hun dynamische en enthousiaste aanpak tijdens liveoptredens\, terwijl de groep meesterlijk kunstenaarschap vertoont in traditionele country en elektrische bluegrass. South Mountain is een geweldige bundeling van telecaster-gitaar\, viool\, bas en drums\, met daarbij driestemmige zang. De energie en het plezier dat South Mountain uitstraalt op het podium is onmiskenbaar Ze creëren een sfeer die vermakelijk is voor elke doorgewinterde concertganger of luisteraar van countrymuziek. \nHet is geen verrassing dat de band South Mountain werd opgericht in het kleine stadje South Mountain\, een landelijk boerendorp buiten Ottawa\, Ontario. Aan het einde van de jaren 80 had oprichter Steve Piticco\, de visie voor een gelijke kansen-groep die zou bestaan uit top muzikanten. Steve en zijn vrouw Laurie LaPorte-Piticco verbonden zich met de zwaargewichten Don Reed\, Todd Nolan en Bill Carruthers\, waarna de groep ontstond. Hoewel de samenstelling van South Mountain door de jaren heen is veranderd\, blijft het gevoel\, de geest en de missie van de band hetzelfde: ‘het creëren van goede traditionele countrymuziek’. Huidige leden van de groep zijn Steve Piticco (telecaster-gitaar\, zang)\, Kurk Bernard (bas\, zang)\, Ken Post (drums\, zang) en Scott Woods\, (fiddle). \nDe indrukwekkende carrière van South Mountain heeft geleid tot vele opwindende muzikale momenten. Ze hebben opgetreden met country-muziekiconen zoals Dolly Parton\, Don Helms\, Highway 101\, John Allan Cameron\, John Landry\, Charlie McCoy\, opgenomen met Merle Haggard en Lee Towers\, en ze hebben geopend voor Moe Bandy\, Vince Gill\, Ricky Skaggs\, The Whites \, Tammy Wynette\, Dan Seals\, Marty Stuart\, Conway Twitty\, Charlie Pride\, Kitty Wells\, en nog veel meer. \nLofuitingen voor South Mountain zijn onder meer de Vista Rising Star Award van de Canadian Country Music Association (CCMA) en nominaties voor CCMA Group of the Year. Op het internationale front heeft South Mountain de Nederlandse Country Music Association Award (DCMA) gewonnen voor Live Show van het Jaar en de DCMA Award voor Band van het Jaar. \nSouth Mountain heeft internationaal veel getoerd\, voornamelijk in Europa en Scandinavië\, waaronder landen zoals Duitsland\, Nederland\, Schotland\, Zwitserland\, Frankrijk\, Spanje\, Lithouwen\, Letland\, Oostenrijk\, Noorwegen\, Zweden en Denemarken. \nEen kaart je is 15\,- en is hieronder te bestellen. \nEn wil je voorafgaand aan het concert komen eten in ons restaurant? Reserveer dan je plaats via onderstaande bookdinnersknop.
URL:https://www.deparelvanzuilen.nl/events/south-mountain/
ATTACH;FMTTYPE=image/jpeg:https://www.deparelvanzuilen.nl/wp-content/uploads/2020/02/SMountain19-002.jpg
END:VEVENT
END:VCALENDAR