BEGIN:VCALENDAR
VERSION:2.0
PRODID:-//De Parel van Zuilen - ECPv6.15.20//NONSGML v1.0//EN
CALSCALE:GREGORIAN
METHOD:PUBLISH
X-WR-CALNAME:De Parel van Zuilen
X-ORIGINAL-URL:https://www.deparelvanzuilen.nl
X-WR-CALDESC:Evenementen voor De Parel van Zuilen
REFRESH-INTERVAL;VALUE=DURATION:PT1H
X-Robots-Tag:noindex
X-PUBLISHED-TTL:PT1H
BEGIN:VTIMEZONE
TZID:UTC
BEGIN:STANDARD
TZOFFSETFROM:+0000
TZOFFSETTO:+0000
TZNAME:UTC
DTSTART:20190101T000000
END:STANDARD
END:VTIMEZONE
BEGIN:VEVENT
DTSTART;TZID=UTC:20200406T201500
DTEND;TZID=UTC:20200406T223000
DTSTAMP:20260422T070349
CREATED:20200106T114724Z
LAST-MODIFIED:20200316T095456Z
UID:10509-1586204100-1586212200@www.deparelvanzuilen.nl
SUMMARY:Woolf | Gecancelled
DESCRIPTION:Drie krachtige\, prachtig zingende vrouwen met stemmen die als tandwielen in elkaar grijpen. \nWie Woolf hoort is niet alleen publiek maar voelt zich deelgenoot van de meeslepende klanken en verhalen die songwriters Marieke\, Mylène en Ellen met kwetsbaarheid en overgave brengen. Woolf schrikt niet terug van onderwerpen die het leven in de kern raken\, met teksten die ertoe doen. De warme\, ingetogen begeleiding voorziet het geheel van een gouden randje. \nDe drie zangeressen leerden elkaar kennen op het Conservatorium van Amsterdam\, en zijn sindsdien onafscheidelijk. In verschillende formaties reisden ze al tijdens hun studie de hele wereld over om eigen projecten te spelen en die van anderen. Zij zongen songs van de grote songwriters der aarde en leerden de kneepjes van het vak. In 2016 besloten de vrouwen dat het tijd was om zelf aan het schrijven te slaan\, en al snel was Woolf een feit. Zij vielen meteen op in de Nederlandse scene\, werden uitgenodigd bij 3fm\, en speelden voorprogramma’s tijdens de tour van Celine Cairo begin 2017.\nLater dat jaar ging Woolf de studio in met muzikant en producer Mats Voshol\, en niet veel later was de eerste EP een feit. Inmiddels heeft Woolf 5 singles uitgebracht\, en komt er in het voorjaar van 2020 een nieuwe EP uit die geproduceerd is door Paul Willemsen. \nHet begin van de avond draait om zangeres Ellen Tackenkamp\, waarvan onlangs een solo cd is verschenen. Zie de volgende link. \nHet eerste half uur voor de pauze dus liedjes van Ellen en na de pauze een uur lang Woolf ! \nEen absolute aanrader deze parelsessie ‘Wat een stemmen\, en dan ook nog samen’ \nMeer info \nEen kaartje is 15\,- en is hieronder te bestellen. \nEn wil je voorafgaand aan het concert komen eten in ons restaurant\, reserveer dan je plaats via onderstaande bookdinnersknop.
URL:https://www.deparelvanzuilen.nl/events/woolf/
ATTACH;FMTTYPE=image/jpeg:https://www.deparelvanzuilen.nl/wp-content/uploads/2020/01/Woolf-003.jpg
END:VEVENT
BEGIN:VEVENT
DTSTART;TZID=UTC:20200413T201500
DTEND;TZID=UTC:20200413T223000
DTSTAMP:20260422T070349
CREATED:20200105T075803Z
LAST-MODIFIED:20200324T112655Z
UID:10481-1586808900-1586817000@www.deparelvanzuilen.nl
SUMMARY:Vance Lane Special | Gecancelled
DESCRIPTION:Lang voordat muziekstijlen als rock&roll\, bebop en Americana waren uitgevonden\, was er in Amerika een populaire muziekvorm die ‘Western swing’ werd genoemd. Deze muziekstijl nam oude cowboy liedjes\, uit Europa overgewaaide volksliedjes maar ook en polka’s en vroege jazz\, blues en gospel-muziek\, en combineerde dit met vooruitstrevende ritmes en avontuurlijke solisten (waardoor het ineens duidelijk wordt waar uiteenlopende acts als Elvis Presley en Charlie Parker hun eerste inspiratie vandaan moeten hebben gehaald). \nPopulaire Western swing artiesten als Bob Wills en Spade Cooley reisden rond met grote orkesten\, waarin iedereen om de beurt op de voorgrond mocht treden. Een van de hoogtepunten was vaak een duet van gitaar en steelgitaar. \nVance Lane Special laat (in soberder trio-bezetting) deze tijden herleven met een combinatie van meerstemmige zang\, gitaar-en-steel duetten\, vergeten cowboy-liedjes\, jazzy solo’s\, en korte begeleidende verhaaltjes. \nGitarist/zanger Raymond Nijenhuis is Western swing specialist bij uitstek – voor TrueFire maakte hij de instructie video Western Swing Guitar Guidebook – maar is tevens een veelgevraagd bluesgitarist met o.a. Dede Priest\, Sax Gordon en Charlie McCoy. Hij maakte een cd onder eigen naam Live At The Nix\, en toert momenteel met Westcoast bluesband Detonics. \nSteelgitarist/zanger Harm van Sleen speelt steel op cd’s van uiteenlopende artiesten\, waaronder Spinvis\, Bertolf\, en de Freelance Band (waarmee hij al eerder in de Parelsessies te zien was)\, en bracht onder eigen naam twee cd’s uit\, Bassman’s Holiday en The Secret To Success. \nBassist/zanger Peter Wassenaar is een veteraan die voor het eerst naam maakte met bands als Galaxy Lin en die momenteel optreedt met onder meer Jules Deelder\, Boris van der Lek en de Dopegezinde Gemeente. \nVoetnoot van parelprogrammeur Hans de Vries: ‘Vance Lane Special is in de Nederlandse roots-scene absoluut uniek en een gouden combinatie. Drie vakmannen met een enorme staat van dienst\, zoals dat heet. Harm is een rising star op the pedal steel! Zijn solo cd The Secret to Success getuigt van bezieling en vakmanschap. Zijn songs schuiven moeiteloos aan in het rijtje van The Band en Bobby Charles. Met textueel prachtige vondsten. Wat mij betreft een ereplaats in het Nederlands songschrijversgilde voor Harm van Sleen!’. \nMeer info? Klik hier. \nOf hier. \nEen kaartje is 15\,– en is hieronder te bestellen. \nEn wil je voorafgaand aan het con cert komen eten in ons restaurant? Reserveer dan je plaats via onderstaande bookdinnersknop. \nhttps://www.bookdinners.nl/restaurants/utrecht/de-parel-van-zuilen
URL:https://www.deparelvanzuilen.nl/events/vance-lane-special/
ATTACH;FMTTYPE=image/jpeg:https://www.deparelvanzuilen.nl/wp-content/uploads/2020/01/Vance-Lane-002.jpg
END:VEVENT
BEGIN:VEVENT
DTSTART;TZID=UTC:20200420T201500
DTEND;TZID=UTC:20200420T220000
DTSTAMP:20260422T070349
CREATED:20200105T074808Z
LAST-MODIFIED:20200324T113014Z
UID:10476-1587413700-1587420000@www.deparelvanzuilen.nl
SUMMARY:Mercy John | verplaatst naar 14 december
DESCRIPTION:Soms wordt er gesproken van het moeilijke tweede album. Op Let It Go Easy mag Mercy John dan misschien wel heel wat demonen van zich afschrijven\, het album kwam er bijna vanzelf. Waar de Brabander rondom zijn eerste album This Ain’t New York al werd geroemd om zijn songschrijverschap toont Let It Go Easy maar eens te meer aan dat de diepste emoties vaak tot de meest indringende creaties leiden. \nNaast zijn nieuwe album ‘Let It Go Easy’ bracht Mercy John in 2019 ook een goed ontvangen solo acoustische EP met de titel ‘Cruel Love’ uit. En schreef hij met Danny Vera het nummer ‘Roller Coaster’\, de hit van 2019 die ontzettend hoog eindigde in allerlei eindejaarslijstjes. \nReviews of the 2019 ‘Let It Go Easy’-album \n‘Zijn akoestische spel\, die gierende gitaren\, dat altijd strakke tempo\, die grootse dynamiek\, die warme stem\, die meehuilende lapsteel en als schouder dienstdoende Hammond\, die oprechtheid in zijn woorden vol zelfkritiek – het is om te janken zo mooi.’ – OOR magazine \n‘Luister naar de subtiel in elkaar gevouwen instrumentaties\, de gelaagde vocalen en de discreet huilende pedal-steel-gitaren van het titelnummer en weet dat het goed is.’ – **** Volkskrant \n‘Op Let It Go Easy overstijgt Mercy John de Americana-categorie en vindt hij zijn persoonlijke signatuur. En waar andere artiesten soms na een halve CD nog wel eens willen inkakken doet hij er met het afsluitende trio juweeltjes doodleuk een schepje bovenop. Om dat te presteren moet je van goeden huize komen. Prachtplaatje.’ – 4\,5* Heaven magazine. \n \nEen kaartje is 15\,- en is hieronder te bestellen. \nEn wil je voorafgaand aan het concert komen eten in ons restaurant? Reserveer dan je plaats via onderstaande bookdinnersknop.
URL:https://www.deparelvanzuilen.nl/events/10476/
ATTACH;FMTTYPE=image/jpeg:https://www.deparelvanzuilen.nl/wp-content/uploads/2020/01/Mercy-John-_3.jpg
END:VEVENT
END:VCALENDAR