BEGIN:VCALENDAR
VERSION:2.0
PRODID:-//De Parel van Zuilen - ECPv6.15.20//NONSGML v1.0//EN
CALSCALE:GREGORIAN
METHOD:PUBLISH
X-WR-CALNAME:De Parel van Zuilen
X-ORIGINAL-URL:https://www.deparelvanzuilen.nl
X-WR-CALDESC:Evenementen voor De Parel van Zuilen
REFRESH-INTERVAL;VALUE=DURATION:PT1H
X-Robots-Tag:noindex
X-PUBLISHED-TTL:PT1H
BEGIN:VTIMEZONE
TZID:UTC
BEGIN:STANDARD
TZOFFSETFROM:+0000
TZOFFSETTO:+0000
TZNAME:UTC
DTSTART:20190101T000000
END:STANDARD
END:VTIMEZONE
BEGIN:VEVENT
DTSTART;TZID=UTC:20200113T201500
DTEND;TZID=UTC:20200113T223000
DTSTAMP:20260422T001236
CREATED:20190210T102157Z
LAST-MODIFIED:20190319T112444Z
UID:7618-1578946500-1578954600@www.deparelvanzuilen.nl
SUMMARY:Linde Nijland zingt Sandy Denny
DESCRIPTION:Linde Nijland (o.a. bekend van Ygdrassil) is een internationaal optredende Nederlandse folkzangeres / songwriter. Het tijdschrift Heaven noemde haar ‘de beste folkzangeres van Nederland’. Tijdens de Parelsessies brengt Linde haar integere eerbetoon aan haar lievelingszangeres de Britse muzieklegende Sandy Denny. Denny overleed jong\, maar liet een schat aan prachtige albums na. Ze werd het meest bekend als zangeres van Fairport Convention en Fotheringay\, maar maakte ook indrukwekkend solowerk. Linde’s album ‘Sings Sandy Denny’ kreeg lovende quotes van o.a. Joe Boyd (producer Nick Drake e.a.)\, Iain Mathews en Tom Robinson (BBC6). \nLinde wordt op 13 januari begeleid door multi-instrumentalist Bert Ridderbos op gitaren\, cittern\, banjo en accordeon. \n“Silky weaving vocals..she manages the impossible” Iain Matthews \nKlik hier voor een voorproefje… \nEen kaartje kost 15\,- en is hieronder te bestellen. \nEn wil je voorafgaand aan het concert komen eten in ons restaurant\, reserveer dan je plek via onderstaande bookdinnersknop.
URL:https://www.deparelvanzuilen.nl/events/linde-nijland-zingt-sandy-denny/
ATTACH;FMTTYPE=image/jpeg:https://www.deparelvanzuilen.nl/wp-content/uploads/2019/02/Linde-Nijland-klein.jpg
END:VEVENT
BEGIN:VEVENT
DTSTART;VALUE=DATE:20200120
DTEND;VALUE=DATE:20200121
DTSTAMP:20260422T001236
CREATED:20200105T080946Z
LAST-MODIFIED:20200105T081205Z
UID:10489-1579478400-1579564799@www.deparelvanzuilen.nl
SUMMARY:Geen Parelsessie
DESCRIPTION:Deze maandag even geen parelsessie. \nHet leven mag dan wel kaal\, leeg en zinloos zijn zonder muziek\, maar een maandagje zonder moet te doen zijn. Dus houd moed en kom gewoon een hapje eten met leuke muziek op de achtergrond. \n \nVolgende week doen we weer weer normaal. Streetbeat Empire.
URL:https://www.deparelvanzuilen.nl/events/geen-parelsessie/
ATTACH;FMTTYPE=image/png:https://www.deparelvanzuilen.nl/wp-content/uploads/2020/01/geen-muziek.png
END:VEVENT
BEGIN:VEVENT
DTSTART;TZID=UTC:20200123T081500
DTEND;TZID=UTC:20200123T220000
DTSTAMP:20260422T001236
CREATED:20200110T132720Z
LAST-MODIFIED:20200123T134311Z
UID:10609-1579767300-1579816800@www.deparelvanzuilen.nl
SUMMARY:In de Akoestische Kamer | Helaas Gecancelled
DESCRIPTION:Rosa del Sur is een tangoduo bestaande uit Rodrigo Cortés Juantok op gitaar en Saskia María Hanssen op zang. Rosa del Sur brengt Argentijnse tango in de puurste en intiemste vorm. Rodrigo’s virtuoze gitaarspel is stuwend en melodieus en maakt de muziek zeer dansbaar. Met haar warme en doorleefde stem vertelt Saskia María melancholische verhalen van de tango uit de ‘barrio’. \nHet duo speelt al zo’n twee jaar op diverse podia. Ze vonden elkaar in de wereldmuziek. De uit Chili afkomstige Rodrigo speelt als sessiemuzikant in vele wereldmuziekensembles\, waaronder zijn vaste band Santo Remedio. Saskia María zingt al langer tango met Orquesta de Mayo\, maar zocht daarnaast naar meer intieme varianten van deze veelzijdige Argentijnse stroming. Het blijkt een vruchtbare combinatie\, die twee uit het zuiden. \nwww.facebook.com/RosadelSurtango \nwww.gigstarter.nl/artists/rosa-del-sur \n 
URL:https://www.deparelvanzuilen.nl/events/in-de-akoestische-kamer-rosa-del-sur/
ATTACH;FMTTYPE=image/jpeg:https://www.deparelvanzuilen.nl/wp-content/uploads/2020/01/rosa-del-sur.jpg
END:VEVENT
BEGIN:VEVENT
DTSTART;TZID=UTC:20200127T201500
DTEND;TZID=UTC:20200127T223000
DTSTAMP:20260422T001236
CREATED:20191119T105235Z
LAST-MODIFIED:20191119T105235Z
UID:10023-1580156100-1580164200@www.deparelvanzuilen.nl
SUMMARY:Streetbeat Empire
DESCRIPTION:Streetbeat Empire brengt muziek van de Mississippi suburbs\, gemixt met 30’s swing\, hot jazz\, Afrobeat en meer. De band is een demonisch draaiorgel dat als een oude stoomtrein een New Orleans jazzclub binnendendert. \nMet hun messcherpe akoestische sound word je heen en weer geslingerd tussen de vier windstreken! Met drums\, sousafoon\, gitaar\, percussie\, melodica\, saxofoon en voodoo-vocals hebben ze in de krochten van Utrecht proefondervindelijk hun eigen sound gecreëerd. \nDe muzikanten van The Streetbeat Empire zijn coryfeeën uit het  professionele muziekcircuit; \nAlex Siegers op vocals\, Tim Kerssies op de Hammond melodica\, Coen Kaldewaij op tenor\, Wouter Poot\, gitaar\, Michiel Buijsse\, drums en Joost Verbraak op sousaphone. \nEind vorig jaar verscheen hun eerste  live opgenomen album. \nlive : https://youtu.be/k_9EtdfP1xw \nweb: https://www.thestreetbeatempire.com/ \nFB : https://www.facebook.com/thestreetbeatempire/ \nEen kaartje kost 15\,- en is hieronder te bestellen. \nEn wil je voorafgaand aan het concert komen eten in ons restaurant? \nReserveer dan je plaats via onderstaande bookdinnersknop.
URL:https://www.deparelvanzuilen.nl/events/streetbeat-empire/
ATTACH;FMTTYPE=image/jpeg:https://www.deparelvanzuilen.nl/wp-content/uploads/2019/11/The_Streetbeat_Empire_web_1800x1200-cJimmy-Israel.jpg
END:VEVENT
END:VCALENDAR