BEGIN:VCALENDAR
VERSION:2.0
PRODID:-//De Parel van Zuilen - ECPv6.15.20//NONSGML v1.0//EN
CALSCALE:GREGORIAN
METHOD:PUBLISH
X-WR-CALNAME:De Parel van Zuilen
X-ORIGINAL-URL:https://www.deparelvanzuilen.nl
X-WR-CALDESC:Evenementen voor De Parel van Zuilen
REFRESH-INTERVAL;VALUE=DURATION:PT1H
X-Robots-Tag:noindex
X-PUBLISHED-TTL:PT1H
BEGIN:VTIMEZONE
TZID:UTC
BEGIN:STANDARD
TZOFFSETFROM:+0000
TZOFFSETTO:+0000
TZNAME:UTC
DTSTART:20180101T000000
END:STANDARD
END:VTIMEZONE
BEGIN:VEVENT
DTSTART;TZID=UTC:20191007T201500
DTEND;TZID=UTC:20191007T223000
DTSTAMP:20260421T150608
CREATED:20181112T123631Z
LAST-MODIFIED:20191003T073706Z
UID:6791-1570479300-1570487400@www.deparelvanzuilen.nl
SUMMARY:Deze parelsessie gaat niet door
DESCRIPTION:Harold K\nHarold K groeide op als Harold Konickx in het Limburgse Susteren. Zijn liedjes zijn pakkende short stories. In november 2014 raakte hij gevoelige snaren met het mooie luisteralbum ‘Heppeneert’. Harold zingt vanuit hart en ziel en zit de luisteraar dicht op de huid. Voor inspiratie delft hij de onuitputtelijke goudmijn van de Amerikaanse folk en blues. Als troubadour pur sang vertelt Harold zijn ongepolijste verhalen met humor en empathie. In september van 2018 jaar sleepte Harold\, na een tweede keer genomineerd te zijn\, de prestigieuze Jo Erens Priès voor betekenisvolle dialectmuziek in de wacht. Harold wordt vergezeld door Alex Akela en Stephan ‘ t Hooft. \nMaika & The Old Dogs\n \nNa jarenlang uiteenlopend repertoire te hebben vertolkt\, van funk tot electro rock\, werd zangeres Maike Dubelaar bevangen door het country-virus. Aangestoken door artiesten als Chris Stapleton en Jason Isbell\, besloot ze een band te formeren om haar prille liefde voor Americana te combineren met de soul die van oudsher in haar genen zit. De bandleden verdienden hun sporen in uiteenlopende bands als Mark Foggo’s Skasters\, Walker Diver\, The Phones en The Gasoline Brothers.  Dat resulteert in een eclectische maar rootsy sound die op het snijvlak van country en soul ligt.
URL:https://www.deparelvanzuilen.nl/events/harold-k/
ATTACH;FMTTYPE=image/jpeg:https://www.deparelvanzuilen.nl/wp-content/uploads/2018/11/HAROLDK-klein.jpg
END:VEVENT
BEGIN:VEVENT
DTSTART;TZID=UTC:20191014T201500
DTEND;TZID=UTC:20191014T223000
DTSTAMP:20260421T150608
CREATED:20190902T095111Z
LAST-MODIFIED:20191003T073334Z
UID:8718-1571084100-1571092200@www.deparelvanzuilen.nl
SUMMARY:Tineke Schoemaker en The Bayou Mosquitos
DESCRIPTION:The Bayou Mosquitos uit Amsterdam spelen smeltkroesmuziek uit Louisiana en Texas waarin een belangrijke rol is weggelegd voor het lyrische geluid van de accordeon. Cajun\, Tex Mex\, Rhythm & Blues en Country zijn de ingrediënten in de gumbo van de muggen uit de delta. \nEigen songs en die van hun helden Hank Williams\, Jim Reeves\, Doug Sahm\, Allen Toussaint\, Ry Cooder\, Flaco Jimenez en Los Lobos. De vier compadres zoeken met veel plezier naar de juiste toon voor elke ‘Americana’ song. De groep bestaat bijna 30 jaar en heeft in 2015 een vinyl EP met vier nieuwe liedjes uitgebracht\, waarop gastrollen voor Beatrice van der Poel en Ramón Balderas Sánchez. \nAbel de Lange: zang\, (slide) gitaar | Marius Bos: accordeon\, piano\, orgel\, zang | Louis ter Burg: mandoline\, dulcimer\, percussie | Ad van Beusekom: staande bas en zang. \nbayoumosquitos.com \nBlueszangeres Tineke Schoemaker ontmoet deze avond de Americana band The Bayou Mosquitos. Zij troffen elkaar eerder tijdens een rootsavond in het Betty Asfalt Complex en dat beviel erg goed.\nTineke is al 45 jaar het boegbeeld van de Barrelhouse blues band en volgens liefhebbers de beste zangeres in het genre. In januari van dit jaar was zij te gast bij “Abel’s Americanana”. Hun gezamenlijke liefde voor Amerikaanse roots maakte dit een heel bijzondere concert.\nOok tijdens deze parelsessie zullen songs klinken van Hank Williams\, Aretha Franklin en The Band. Dit maakt ook van het concert in de Parel op voorhand weer een TOP avond! \nbarrelhouse.nl\nbayoumosquitos.com\nabeldelange.com \nEen kaartje is 15\,- en hieronder te bestellen. En doe dat snel want op = op \nEn wil je voorafgaand aan het concert komen eten in ons restaurant? Reserveer dan je plaats via onderstaande bookdinnersknop.
URL:https://www.deparelvanzuilen.nl/events/tineke-schoemaker-en-the-bayou-mosquitos/
ATTACH;FMTTYPE=image/jpeg:https://www.deparelvanzuilen.nl/wp-content/uploads/2019/09/Tineke-lacht-002.jpg
END:VEVENT
BEGIN:VEVENT
DTSTART;TZID=UTC:20191016T201500
DTEND;TZID=UTC:20191016T220000
DTSTAMP:20260421T150608
CREATED:20190904T124110Z
LAST-MODIFIED:20190904T124403Z
UID:8781-1571256900-1571263200@www.deparelvanzuilen.nl
SUMMARY: 't Hoogt on Tour | 20.000 Days on Earth
DESCRIPTION:Twintigduizend dagen had Nick Cave rondgelopen op aarde toen hij 57 werd. Reden voor het kunstenaarsduo Ian Forsyth & Jane Pollard om een semi-fictieve documentaire te maken over een dag uit het leven van de frontman van de Bad Seeds. De film speelt gedeeltelijk in de auto\, met Cave aan het stuur en bekenden als Kylie Minogue op de achterbank. \nOp zoek naar de bronnen van Caves creativiteit besloten de kunstenaars\, in samenspraak met Cave\, een fictieve dag uit het leven van de performer\, componist\, schrijver en scenarist te verfilmen. Het resultaat is een prikkelende mix van documentair essay en cinematografische fictie\, waarin de drijfveren van Caves veelzijdige ambitie boven komen. \nCave is onder meer te zien als chauffeur van een auto waarin bekenden – onder wie zangeres Kylie Minogue en acteur Ray Winstone – plaats nemen op de achterbank. ‘De auto is een soort fantasieplek\, waar mijn gedachten verschijnen in de vorm van mensen die een rol in mijn verhaal hebben gespeeld\,’ lichtte Cave toe in een interview. \nHet 15e album van Cave\, Push the Sky Away\, speelt een grote rol in deze interessante semi-fictieve docu. \n20.000 Days on Earth // Iain Forsyth en Jane Pollard // Verenigd Koninklijk // 2014 // Documentaire // 97 minuten // Engels gesproken // Nederlands ondertiteld \nKlik hier voor een kaartje\, te bestellen bij ’t Hoogt zelf. \nEn wil je voorafgaand aan de film komen eten in ons restaurant? reserveer dan je plaats via onderstaande bookdinnersknop
URL:https://www.deparelvanzuilen.nl/events/%e2%80%aft-hoogt-on-tour-20-000-days-on-earth/
ATTACH;FMTTYPE=image/jpeg:https://www.deparelvanzuilen.nl/wp-content/uploads/2019/09/Nick-Cave.jpg
END:VEVENT
BEGIN:VEVENT
DTSTART;TZID=UTC:20191021T201500
DTEND;TZID=UTC:20191021T223000
DTSTAMP:20260421T150608
CREATED:20190902T095710Z
LAST-MODIFIED:20190904T134529Z
UID:8722-1571688900-1571697000@www.deparelvanzuilen.nl
SUMMARY:Mae Brown | Blues & Bliss
DESCRIPTION:Mae Brown is een collectief van gepassioneerde muzikanten. Ze delen hun liefde voor blues\, gospel\, soul en funk uit de jaren ’60 en ’70; De jaren van grootheden zoals The Meters\, Dr. John\, Koko Taylor\, Dinah Washington\, Etta James en Ann Peebles. \nBlues & Bliss\, dat is de rode draad van dit programma. Liefde en leed\, kortom het leven zelf.\nAnne May vertelt hier en daar tussendoor wat Blues of Bliss voor haar betekent en waarom ze een bepaald lied heeft gekozen. \nFrontvrouw Mae heeft zich in de loop der jaren ontpopt als een echt podiumdier\, ze vindt emotie belangrijker dan vorm en haar inspiratie vindt ze in alle goede muziek\, oud of nieuw\, als het maar SOUL heeft!  Mae zingt en vertelt over verloren en gevonden liefdes\, over foute en fijne mannen\, verdriet en geluk. Blues en Bliss\, kortom het leven zelf. \nEn natuurlijk heeft Mae een aantal muzikale verrassingen in petto…..! \nMae Brown bestaat in de basis uit:\nMae (Anne May) de Bruyn Prince zang\nRoel Weggemans gitaar\nJeff Zimberlin gitaar\nRob Verheem bas\nRobert Zimberlin drums/ cajon \nSpeciale gasten deze avond: de zingende engelen Gabby Bakker\, Gabrielle Delhaes en Wies Hermans | Thijmen Jacobse – toetsen & Hans de Vries – harmonica \nEen kaartje is 15\,- en is hieronder te bestellen. \nEn wil je voorafgaand aan het concert komen eten in ons restaurant? Reserveer dan je plaats via onderstaande bookdinnersknop \n \n 
URL:https://www.deparelvanzuilen.nl/events/mae-brown-blues-bliss/
ATTACH;FMTTYPE=image/jpeg:https://www.deparelvanzuilen.nl/wp-content/uploads/2019/09/Mae-Brown.jpg
END:VEVENT
BEGIN:VEVENT
DTSTART;TZID=UTC:20191028T201500
DTEND;TZID=UTC:20191028T220000
DTSTAMP:20260421T150608
CREATED:20171215T121937Z
LAST-MODIFIED:20190902T102141Z
UID:4070-1572293700-1572300000@www.deparelvanzuilen.nl
SUMMARY:Walt Wilkins
DESCRIPTION:Als songwriter\, producer en bandleider werkte Walt Wilkins vele  jaren in Nashville. Zijn songs werden opgenomen door artiesten als Ricky Skaggs\, Kenny Rogers en Pat Green. Als performer wordt hij wel vergeleken met troubadours als Guy Clark en Townes van Zandt. In Nederland verwierf hij bekendheid als producer van de eerste twee platen van Sam Baker\, met wie hij ook diverse keren in Nederland tourde. Na tien jaar Nashville-songwriter te zijn geweest\, keerde Wilkins terug naar zijn geboortestaat Texas. Daar creëerde hij met zijn band de Mystiqueros een Texas Hill Country supergroep\, die een podium biedt aan een prachtige verzameling  getalenteerde muzikanten en songwriters. \nEerder was Walt Wilkins hier ook al. Dat leverde een schitterende avond op. Dus: wees er snel bij. \nEen kaartje is 17\,- en is hieronder te bestellen. \nEn wil je voorafgaand aan het concert komen eten in ons restaurant\, reserveer dan je plaats in ons restaurant via onderstaande bookdinnersknop. \n \n  \nLuister hier naar een interview met Walt Wilkins\, gemaakt door Jos Wijnen. \nhttps://www.deparelvanzuilen.nl/wp-content/uploads/2017/12/Interview-Walt.mp3\n 
URL:https://www.deparelvanzuilen.nl/events/walt-wilkins/
CATEGORIES:Parelsessies
ATTACH;FMTTYPE=image/jpeg:https://www.deparelvanzuilen.nl/wp-content/uploads/ww2.jpg
END:VEVENT
BEGIN:VEVENT
DTSTART;TZID=UTC:20191029T201500
DTEND;TZID=UTC:20191029T221500
DTSTAMP:20260421T150608
CREATED:20190904T130430Z
LAST-MODIFIED:20191003T100652Z
UID:8792-1572380100-1572387300@www.deparelvanzuilen.nl
SUMMARY:In de Akoestische Kamer | Banditaliana
DESCRIPTION:Al ruim een kwart eeuw beweegt Banditaliana zich in de voorhoede van de Italiaanse wereldmuziekscene. Uit originele composities\, complexe ritmes en verfijnde arrangementen destilleren de mannen een lichte en vrolijk sound. \nDe groep onder leiding van trekharmonicaspeler Riccardo Tesi (ook bekend van Accordean Samurai) viert zijn vijfentwintigjarig jubileum met een nieuwe cd en een gelijknamige theatertournee: Argento: “Een magnifiek album.” \nRiccardoTesi is niet alleen een van de beste en avontuurlijkste accordeonisten ter wereld\, hij heeft drie mannen om zich heen staan die ervoor zorgen dat je altijd met open mond naar hun muziek zit te luisteren. Maurizio Geri is niet alleen een virtuoos gitarist\, maar ook een fantastische zanger\, Claudio Carboni is een fabelachtig goede saxofonist en Gigi Biolcati is de soepelste en tegelijk strakste drummer en percussionist die je maar kunt wensen. \nKlik hier voor een schitterend voorproefje \nEen kaartje is voor deze gelegenheid een fractie duurder\, nl. 15\,- en is hieronder te bestellen \nEn wil je voorafgaand aan het concert komen eten in ons restaurant? reserveer dan je plaats via onderstaande bookdinnersknop.
URL:https://www.deparelvanzuilen.nl/events/in-de-akoestische-kamer-banditaliano/
ATTACH;FMTTYPE=image/jpeg:https://www.deparelvanzuilen.nl/wp-content/uploads/2019/09/Banditaliano.jpg
END:VEVENT
END:VCALENDAR