BEGIN:VCALENDAR
VERSION:2.0
PRODID:-//De Parel van Zuilen - ECPv6.15.20//NONSGML v1.0//EN
CALSCALE:GREGORIAN
METHOD:PUBLISH
X-WR-CALNAME:De Parel van Zuilen
X-ORIGINAL-URL:https://www.deparelvanzuilen.nl
X-WR-CALDESC:Evenementen voor De Parel van Zuilen
REFRESH-INTERVAL;VALUE=DURATION:PT1H
X-Robots-Tag:noindex
X-PUBLISHED-TTL:PT1H
BEGIN:VTIMEZONE
TZID:UTC
BEGIN:STANDARD
TZOFFSETFROM:+0000
TZOFFSETTO:+0000
TZNAME:UTC
DTSTART:20180101T000000
END:STANDARD
END:VTIMEZONE
BEGIN:VEVENT
DTSTART;TZID=UTC:20190401T201500
DTEND;TZID=UTC:20190401T223000
DTSTAMP:20260420T223529
CREATED:20190123T154059Z
LAST-MODIFIED:20190123T154144Z
UID:7333-1554149700-1554157800@www.deparelvanzuilen.nl
SUMMARY:The Tennessee Studs
DESCRIPTION:The Tennessee Studs is een heerlijke zesmansformatie uit Amsterdam. Ze speelden al eerder ooit eens in De Parel van Zuilen en daar hebben we zeer prettige herinneringen aan. Een mix van bluegrass\, honky-tonky\, American roots\, Ierse folk en tex-mex. Dat is wat je voorgeschoteld krijgt deze avond. Virtuoos snarenspel\, creatieve en pakkende teksten en niet te vergeten een prettige interactie met hun publiek\, zorgen voor een feestavond met deze zes mannen. Goede samenzang onder meer begeleid door Jeroen ‘mr. Dobro\, Schmoll. \nThe Tennessee Studs bestaan uit: \nHenrik Holm: Contrabas\, zingende zaag\, zang\nJeff Cardey: mandoline\, zang\nJeroen Schmohl: dobro\, akoestische gitaar\, zang\nPieter Loman: banjo\, zang\nRoland van Beveren: akoestische en electrische gitaar\, zang \nJoram Peeters: viool\, mandoline\, gitaar\, zang \nEen kaartje kost 15\,– en is hieronder te bestellen. \nEn wil je vooraf lekker eten ons restaurant? Reserveer je plaats dan via onderstaande bookdinnersknop. \n \n  \n 
URL:https://www.deparelvanzuilen.nl/events/the-tennessee-studs/
ATTACH;FMTTYPE=image/jpeg:https://www.deparelvanzuilen.nl/wp-content/uploads/2019/01/tennessee-studs.jpg
END:VEVENT
BEGIN:VEVENT
DTSTART;TZID=UTC:20190408T201500
DTEND;TZID=UTC:20190408T223000
DTSTAMP:20260420T223529
CREATED:20190123T133324Z
LAST-MODIFIED:20190404T144439Z
UID:7327-1554754500-1554762600@www.deparelvanzuilen.nl
SUMMARY:The Henry Girls | Uitverkocht
DESCRIPTION:De drie zussen Karen (fiddle\, ukulele\, piano\, banjo)\, Lorna (accordeon\, ukulele) en Joleen (harp\, mandoline) McLaughlin mengen hun muziek uit erfgoedrijk county Donegal in ruraal Noord-West Ierland met die uit Schotland en voegen daar flinke scheuten oldtime American music en jazz aan toe. Deze frisse ‘transatlantic rootsmix’ levert hen aan beide kanten van de Atlantische Oceaan lovende kritieken en de reputatie als een van de beste alt folkexponenten uit Ierland van de laatste jaren. Bovendien hebben ze zich  ontwikkeld tot delicate songwriters. Daardoor is er in eigen land en daarbuiten des te meer waardering voor hun eigentijdse folk. \nOngetwijfeld zijn hun gezamenlijke muziekstudies debet aan hun gezamenlijke vocale en instrumentale kwaliteiten. Maar de onbevangenheid en originaliteit zijn gebleven. Ze vertolken wel eens andermans werk (zoals dat van Elvis Costello)\, maar geven daar hun eigen twist aan\, want coveren doen ze niemand. Toch zit de muziekpers nooit verlegen om een vergelijking meer of minder. Crosby\, Stills & Nash vanwege hun weergaloze vocale harmonieën. Gillian Welch en The Indigo Girls vanwege hun gemengde celtic en americana roots. De Canadese Kate & Anna  McGarriggle omdat ze ook nog eens zussen zijn\, The Andrew Sisters vanwege hun swing. \nAl in de vroege jaren negentig trad het trio naar buiten en na een stormachtige carrière-ontwikkeling bevestigden ze met hun album ‘Louder Than Words’ uit 2014 hun klasse. De uitnodigingen om samen te werken breidden zich uit naar grootheden en ze droegen bij aan albums van Mary Black\, Sharon Shannon\, The Hothouse Flowers\, Donal Lunny\, Dervish\, Imelda May en hun streekgenoten Clannad en Altan. \nKortom…. met trots presenteren wij The Henry Girls. Klik voor prettige voorproefjes op hun eigen site. \nEen kaartje kost 15\,– en is hieronder te bestellen. En wil je voorafgaand aan het concert lekker eten in ons restaurant? Reserveer dan je plaats via de onderstaande bookdinnersknop.
URL:https://www.deparelvanzuilen.nl/events/the-henry-girls/
ATTACH;FMTTYPE=image/jpeg:https://www.deparelvanzuilen.nl/wp-content/uploads/2019/01/Henry-Girls.jpg
END:VEVENT
BEGIN:VEVENT
DTSTART;TZID=UTC:20190415T201500
DTEND;TZID=UTC:20190415T223000
DTSTAMP:20260420T223529
CREATED:20181031T111411Z
LAST-MODIFIED:20181031T111411Z
UID:6704-1555359300-1555367400@www.deparelvanzuilen.nl
SUMMARY:Stereo Naked
DESCRIPTION:Stereo Naked is een duo\, bestaande uit de in Nieuw Zeeland geboren contrabassist Pierce Black en zangeres en banjospeelster Julia Zech\, die afwisselend woont in Keulen en Parijs. \nSamen rekken ze de grenzen op die er zijn als je een contrabas met een banjo combineert en je begeeft in de wereld van de Americana Rootsmuziek en experimentele Indie-pop\, en wat daartussen zit. \nDe tekst en muziek zijn gemaakt om te botsen en te verrassen; experimenteel jodelen\, tongue-in-cheek murder ballads\, hiphop-loopjes in bluegrass-stijl…. Het klinkt misschien een beetje ingewikkeld\, maar de rauwe akoestische warmte van de bas en de banjo voegt diepte en donkere humor toe in deze folk ambiance. \nDit jaar is hun CD ‘Roadkill Highway’ uitgekomen en toeren ze uigebreid door Duitsland\, België\, Frankrijk en Nederland. \nWij hier\, van de Parelsessies\, waren allemaal erg enthousiast\, dus kom vooral luisteren naar dit illustere duo. \nVoorproefje horen? Klik Hier. \nEen kaartje kost € 15\,– en is hieronder te bestellen. \nEn wil je voorafgaand lekker mee-eten in het restaurant? Reserveer dan hier je plaats via de onderstaande bookdinnersknop.
URL:https://www.deparelvanzuilen.nl/events/stereo-naked/
ATTACH;FMTTYPE=image/jpeg:https://www.deparelvanzuilen.nl/wp-content/uploads/2018/10/Stereo-Naked-1.jpg
END:VEVENT
BEGIN:VEVENT
DTSTART;TZID=UTC:20190417T203000
DTEND;TZID=UTC:20190417T223000
DTSTAMP:20260420T223529
CREATED:20190320T160610Z
LAST-MODIFIED:20190320T161833Z
UID:7557-1555533000-1555540200@www.deparelvanzuilen.nl
SUMMARY:Filmtheater 't Hoogt presenteert: Maria by Callas
DESCRIPTION:Filmtheater ’t Hoogt is op tournee. Zoals (bijna) iedereen wel weet heeft ’t Hoogt het oude pand in de binnenstad verlaten en maakt zij zich op voor een nieuw bruisend leven hier vlakbij in het werkspoorgebied. Maar tot die tijd reist ’t Hoogt rond en programmeert op verschillende locaties hele mooie films. \nIn de Parel van Zuilen houden we nogal van muziek\, dus t’Hoogt programmeert hier onder de noemer ‘CineMuziek’ films over muziek. \nOp 17 april trappen we af met de documentaire ‘Maria by Callas’. Een vorig jaar verschenen gloednieuw  en schitterend portret van misschien wel de meest legendarische en meest tot de verbeelding sprekende zangeres die de wereld ooit heeft gekend. \nMeer dan veertig jaar na het overlijden van de beroemdste operazangeres van de twintigste eeuw schetst regisseur Tom Volf een intiem portret met persoonlijke materialen van de zangeres zelf. Super 8-films\, eigen live-opnames\, intieme brieven en zeldzame archiefbeelden tonen de majestueuze sopraan\, ‘La Divina’ voor het eerst in kleur achter de schermen. Ook  bekende namen als Aristoteles Onassis\, Marilyn Monroe\, Yves Saint Laurent\, J.F. Kennedy\, Grace Kelly en Winston Churchill passeren de revue in deze openbarende documentaire. \nRegisseur en bewonderaar Tom Volf reisde drie jaar lang de wereld rond in zijn zoektocht naar de ‘ware Maria Callas’. Naast het verzamelen van obscuur beeldmateriaal van de zangeres legde hij zich tevens toe op het ontmoeten van de naaste vrienden\, collega’s en bekenden van Callas. Volf was jarenlang hoofd audiovisuele communicatie bij het Théâtre du Châtelet en regisseerde vele korte films en documentaires over opera. \nHet resultaat is een intieme inkijk in het leven van wellicht de beroemdste operazangeres ooit. Die zich\, zo zegt ze zelf\, ondanks een leven lang ongekend succes\, altijd klein voelde op momenten dat ze geen man aan haar zijde had. \nKlik hier voor een klein uittreksel uit de film. \nVoor kaartjes: Klik hieronder op het plaatje en registreer je. Dan nogmaals om de kaartjes te bestellen. Dat gaat via het blauwe tijdvakje op de betreffende pagina rechtsboven.
URL:https://www.deparelvanzuilen.nl/events/filmtheater-t-hoogt-presenteert-maria-by-callas/
ATTACH;FMTTYPE=image/jpeg:https://www.deparelvanzuilen.nl/wp-content/uploads/2019/02/callas.jpg
END:VEVENT
BEGIN:VEVENT
DTSTART;TZID=UTC:20190422T201500
DTEND;TZID=UTC:20190422T223000
DTSTAMP:20260420T223529
CREATED:20190131T094408Z
LAST-MODIFIED:20190416T105612Z
UID:7422-1555964100-1555972200@www.deparelvanzuilen.nl
SUMMARY:Hans de Vries & The Louisiana Men XL
DESCRIPTION:Rootsmuziek uit New Orleans en de Mississippi delta. Naast eigen composities in Louisiana stijl\, ook juweeltjes van artiesten als Bobby Charles\, Ray Charles  & Jimmy Reed \nSpeciaal voor de parelsessies vanavond een Extra Large line-up van ‘The Louisiana Men’. Hans de Vries (aka Homesick) haalt zijn compagnons Toon Ekkers (gitaar\, zang) en Alex Siegers (percussie zang) er graag weer bij voor deze muzikale gumbo night. De combinatie van  messcherpe 3 stemmige zang en zydecomuziek gespeeld op de mondharmonica is nog steeds hun handelsmerk.  Als gasten onder andere Joost Verbraak op sousafoon (en trompet) \nDe pers over Louisiana Men: \n“..fraai zangwerk en zeldzame samenzang” (Block Magazine) \n“Niemand\, ik herhaal: niemand slaagt erin de muziek uit de Zuidelijke Verenigde staten zo overtuigend te brengen als Homesick en zijn kompanen” (Mazzmusikas) \n“Wat een power en dynamiek weet dit gezelschap neer te zetten” (New Folk Sounds) \n“Louisiana Muziek is van een bedrieglijke eenvoud. Velen denken het te kunnen spelen\, maar weinigen weten de broeierige essentie zo moeiteloos te raken als Hans de Vries en zijn mannen” (Herman van de Horst\, OOR/Zwolse Courant) \nHet dubbelalbum ‘Back to Nothing’ kreeg vier sterren in de Volkskrant \nKlik hier voor een voorproefje. \nEen kaartje kost 15\,- en is hieronder te bestellen. Je kunt natuurlijk ook gewoon een kaartje aan de kassa kopen. \nEn wil je voorafgaand aan het concert komen eten in ons restaurant? Reserveer dan je plaats via onderstaande bookdinnersknop.
URL:https://www.deparelvanzuilen.nl/events/hans-de-vries-friends/
ATTACH;FMTTYPE=image/jpeg:https://www.deparelvanzuilen.nl/wp-content/uploads/2019/01/louisiana-men-foto-RonOlij.jpg
END:VEVENT
BEGIN:VEVENT
DTSTART;TZID=UTC:20190425T201500
DTEND;TZID=UTC:20190425T220000
DTSTAMP:20260420T223529
CREATED:20190205T142601Z
LAST-MODIFIED:20190205T142758Z
UID:7514-1556223300-1556229600@www.deparelvanzuilen.nl
SUMMARY:In de Akoestische Kamer: Fling
DESCRIPTION:De laatste acht jaar heeft Fling met vier verschillende muziekprogramma’s getoerd langs de theaters van Nederland. Van Ommen tot Amstelveen\, van Delfzijl tot Heerlen en dit met zeer veel succes. \nNa jaren van theaterzalen komt Fling nu met een nieuw intiem programma. Op maat gemaakt voor de kleinere podia én voor de gelegenheid als ijzersterk duo. Beide muzikanten zijn uitstekende multi-instrumentalisten en het gebruik van hun\nuitgebreide instrumentarium levert een zeer afwisselende en verfrissende klank op. \nDit alles resulteert in een buitengewoon\, aanstekelijk en magisch geheel van sterke verhalen gevat in een stormvloed aan wilde melodieën\, zacht klagende airs en ontroerende ballades. \nMet: Annemarie de Bie en Evertjan ’t Hart
URL:https://www.deparelvanzuilen.nl/events/in-de-akoestische-kamer-fling/
ATTACH;FMTTYPE=image/jpeg:https://www.deparelvanzuilen.nl/wp-content/uploads/2019/02/Fling.jpg
END:VEVENT
BEGIN:VEVENT
DTSTART;TZID=UTC:20190429T201500
DTEND;TZID=UTC:20190429T223000
DTSTAMP:20260420T223529
CREATED:20190124T101544Z
LAST-MODIFIED:20190130T142118Z
UID:7337-1556568900-1556577000@www.deparelvanzuilen.nl
SUMMARY:Billy & Bloomfish
DESCRIPTION:Het Belgische duo Pascale Michiels en Kathleen Vandenhoudt speelde ooit met de Blue(s) Angels en About Queens Of The Blues. Ze traden op als voorprogramma bij Bill Wyman’s Rhythm Kings. En dat is toch geen kleine naam om in de c.v. te vermelden. \nJarenlang hebben Michiels en Vandenhoudt podia\, kleedkamers en vervoer gedeeld. Uiteindelijk besloten ze als Billy & Bloomfish nummers op te nemen en releases uit te brengen. Ze wilden akoestische americana vullen met roots\, blues en een vleugje country\, waarbij het plezier van musiceren in alle gevallen hoorbaar is. \nHun nieuwste CD heet ‘Happy Incomplete’. De titel alleen al vertelt het hele verhaal: als je al zo lang in dit leven staat\, heb je al van alles meegemaakt\, kisten vol herinneringen verzameld\, zalige momenten beleefd maar ook verwondingen opgelopen en littekens overgehouden. Als je dan kan zeggen dat het ondanks alles goed is\, dan ben je ‘onvolmaakt gelukkig’….\nEen concert van deze twee dames is het meervoud van samenzang en samenspel\, twee prachtige krachtige stemmen die elkaar raken en weer loslaten zoals golven over golven in een zee van rauwe puurheid\, die je met hart en ziel meenemen op hun muzikale trip. \nMeer weten? Klik hier. \nEen kaartje kost 15\,– en is hieronder te bestellen. \nEn wil je voorafgaand aan het concert komen eten in ons restaurant? Reserveer dan je plaats via de onderstaande bookdinnersknop.
URL:https://www.deparelvanzuilen.nl/events/billy-bloomfish/
ATTACH;FMTTYPE=image/jpeg:https://www.deparelvanzuilen.nl/wp-content/uploads/2019/01/Promo-foto-BB-Happy-Incomplete-004-klein.jpg
END:VEVENT
END:VCALENDAR