BEGIN:VCALENDAR
VERSION:2.0
PRODID:-//De Parel van Zuilen - ECPv6.15.20//NONSGML v1.0//EN
CALSCALE:GREGORIAN
METHOD:PUBLISH
X-WR-CALNAME:De Parel van Zuilen
X-ORIGINAL-URL:https://www.deparelvanzuilen.nl
X-WR-CALDESC:Evenementen voor De Parel van Zuilen
REFRESH-INTERVAL;VALUE=DURATION:PT1H
X-Robots-Tag:noindex
X-PUBLISHED-TTL:PT1H
BEGIN:VTIMEZONE
TZID:UTC
BEGIN:STANDARD
TZOFFSETFROM:+0000
TZOFFSETTO:+0000
TZNAME:UTC
DTSTART:20180101T000000
END:STANDARD
END:VTIMEZONE
BEGIN:VEVENT
DTSTART;TZID=UTC:20190304T201500
DTEND;TZID=UTC:20190304T223000
DTSTAMP:20260420T193256
CREATED:20190129T152038Z
LAST-MODIFIED:20190211T095137Z
UID:7393-1551730500-1551738600@www.deparelvanzuilen.nl
SUMMARY:Champagne Charlie
DESCRIPTION:Zeelands bluesgeheim bij de Parelsessies. \nVoor de bluesliefhebbers\, die tegenwoordig ook steeds meer aan hun trekken komen bij de Utrechtse Parelsessies\, is maandag 4 maart 2019 een datum om onmiddellijk in de agenda te reserveren. \nVan de band Champagne Charlie gaan de muzikale wortels terug naar de klassieke vooroorlogse blues uit de jaren twintig en dertig van de vorige eeuw. De formatie werd opgericht in 1988. Het zestal is inmiddels elf cd’s verder\, waarvan er zeker een aantal tijdens hun optreden verkrijgbaar zal zijn. \nDe bandnaam Champagne Charlie is ontleend aan een song uit 1932 van de zanger Blind Blake. Kenners weten dat er in die periode meerdere blinde blueszangers probeerden via muziek hun kost te verdienen. Verwacht tijdens dit concert naast covers van oudtestamentische blues- en rootshelden als Robert Johnson\, Mississippi John Hurt en Woody Guthrie ook eigen repertoire in die stijl. \nChampagne Charlie bestaat uit Theo de Koning (gitaren en zang)\, Peter Lenselink (drums)\, Gait Klein Kromhof (harmonica) – in 2014 werd Gait gekozen tot de beste bluesharmonicablazer – Peter Bout (bas)\, Sjef Hermans (zang en banjo) en Geert de Heer (mandoline\, dobro/lapsteel). \nEen voorproefje \nEn nog een voorproefje \nDe band heeft inmiddels 14 CD’s uitgebracht. \nEen kaartje is 15\,– en is hieronder te bestellen. \nEn wil je voorafgaand aan dit concert komen eten in ons restaurant? Reserveer dan je plaats via de onderstaande bookdinnersknop.
URL:https://www.deparelvanzuilen.nl/events/champagne-charlie/
ATTACH;FMTTYPE=image/jpeg:https://www.deparelvanzuilen.nl/wp-content/uploads/2019/01/champagne-charlie-klein.jpg
END:VEVENT
BEGIN:VEVENT
DTSTART;TZID=UTC:20190311T201500
DTEND;TZID=UTC:20190311T223000
DTSTAMP:20260420T193256
CREATED:20181101T112433Z
LAST-MODIFIED:20190129T150352Z
UID:6713-1552335300-1552343400@www.deparelvanzuilen.nl
SUMMARY:Tarmonica
DESCRIPTION:And now for something completely different. \nTarmonica is een duo bestaande uit de Iraanse muzikanten Reza Mirjalali en Hamid Reza Behzadian. Zij hebben elkaar op Codarts\, het Conservatorium van Rotterdam ontmoet en creëren een fascinerende combinatie van westerse en Perzische muziek met een bluesy ondertoon op tar\, slidegitaar en mondharmonica. \nZeer de moeite van het beluisteren waard. Deze twee mannen combineren op verrassende manier de Oosterse en de Westerse wereld met elkaar. \nHamid (rechts op de foto) heeft al eerder gespeeld in één van de Akoestische Kamers. Dat zat toen helemaal vol\, dus aarzel niet te lang en laat je meeslepen met dit vrolijke duo. \nReza Mirjalali – tar\, ud\, zang\nHamid Behzadian – slidegitaar\, mondharmonica\, zang \nEen kaartje kost 15\,– en kun je hieronder bestellen. \nEn wil je daaraan voorafgaand lekker eten in ons restaurant? Reserveer dan je plaats via de bookdinnersknop hieronder. \n 
URL:https://www.deparelvanzuilen.nl/events/tarmonica/
CATEGORIES:Parelsessies
ATTACH;FMTTYPE=image/jpeg:https://www.deparelvanzuilen.nl/wp-content/uploads/2018/11/Tarmonica.jpg
END:VEVENT
BEGIN:VEVENT
DTSTART;TZID=UTC:20190318T201500
DTEND;TZID=UTC:20190318T223000
DTSTAMP:20260420T193256
CREATED:20181108T114531Z
LAST-MODIFIED:20181108T114531Z
UID:6764-1552940100-1552948200@www.deparelvanzuilen.nl
SUMMARY:The Bucks
DESCRIPTION:Op 18 maart doet de Parel van Zuilen St. Patrick’s Day nog eens dunnetjes over met het illustere trio The Bucks. \nDavid Munnelly\, Kieran Fahy en Philip Masure\, drie veelzijdige en drukbezette muzikanten spelen al jaren samen. Met het trio “The Bucks” brengen ze traditionele Ierse muziek met zoveel energie en passie dat het niemand onbewogen laat. \nDe 3 muzikanten putten hun inspiratie uit hun jarenlange muzikale ervaring en een brede belangstelling voor uiteenlopende muziekstijlen\, maar vooral uit de Ierse muziektraditie. Hoewel hun repertoire voornamelijk uit instrumentale\, traditionele Ierse dansmuziek bestaat\, komen er ook liederen uit Ierland\, Schotland en Engeland aan bod. \nDe 3 musici hebben in de afgelopen jaren een hechte manier van samenspel ontwikkeld\, die uniek te noemen is. \nDavid groeide op met de zang en accordeon muziek van zijn grootouders. Al op zijn zevende begon hij met accordeon les van zijn oom en zijn grootmoeder. Tijdens zijn studie\, in Dublin\, werd hij gevraagd om in de band van Niamh Parsons te komen spelen. Van het een kwam het ander\, en al gauw speelde hij met bekende namen als: Gerry O Connor\, Garry O Brian\, De Dannan en The Chieftains. In 1999 vormde Dave zijn eigen groep The David Munnelly Band\, met wie hij de hele wereld over reisde en vier albums opnam. Tegenwoordig maakt hij ook deel uit van het internationale project “Accordeon Samourai”. (Samen met Didier Laloy\, Markku Lepisto\, ricardo Tesi en Bruno Letron). Behalve dat is hij nog met veel meer muzikale projecten bezig. \nKieran is klassiek geschoold maar groeide op met de traditionele muziek in Co. Galway. Hij werd Slow-Air All-Ireland champion\, en won de O’Carolan competitie in Keadue. Hij bracht al verschillende solo albums uit\, was stichtend lid van de groep Shantalla en tourde met oa Duck Backer\, JM Veillon\, Vallerion. \nPhilip is vooral bekend om zijn specialisatie op het gebied van de z.g.n. DADGAD tuning op gitaar\, maar hij speelt ook andere instrumenten. Philip is wereldwijd veelgevraagd als gitaar workshop leraar en geeft ook les op muziekscholen in België. Verder is hij een ervaren studio technicus en producer. Hij toerde met groepen als Urban Trad\, Lais\, Floes\, Garva\, Embrun en artiesten als Helen Flaherty\, Terry Coyne en Sylvain Barou. Tegenwoordig is hij naast het TRIO actief met Comas\, Fling\, Andar\, de zangeres Clementine en heeft hij het druk met zijn studio in Herentals. \nKom nog even genieten op deze mooie maandag. \nEen kaartje kost € 15\,– is is hieronder te bestellen. \nEn wil je voorafgaand aan het concert lekker eten in ons restaurant? Reserveer dan je plaats via de onderstaande bookdinnersknop.
URL:https://www.deparelvanzuilen.nl/events/the-bucks/
ATTACH;FMTTYPE=image/jpeg:https://www.deparelvanzuilen.nl/wp-content/uploads/2018/11/The-Bucks-kleur-klein.jpg
END:VEVENT
BEGIN:VEVENT
DTSTART;TZID=UTC:20190320T201500
DTEND;TZID=UTC:20190320T223000
DTSTAMP:20260420T193256
CREATED:20181112T110516Z
LAST-MODIFIED:20181206T104142Z
UID:6787-1553112900-1553121000@www.deparelvanzuilen.nl
SUMMARY:Woensdag 20 maart: Brian Chartrand Trio
DESCRIPTION:Het trio van de Amerikaanse singer-songwriter en gitarist Brian Chartrand (The Sweet Remains)\, komt terug naar Nederland voor een reeks concerten. \nNa een aantal succesvolle Europese tours en met meer dan 30 miljoen views op Spotify\, heeft de band een loyale aanhang\, zowel in de VS als in Europa. \nDe muziek van het Brian Chartrand Trio is een verfrissende mix van de West Coast sound en Folk Rock. Tijdens deze tour zal voornamelijk het eigen werk van Brian Chartrand en zijn band The Sweet Remains centraal staan. Voor liefhebbers van akoestische muziek en loepzuivere meerstemmige zang is dit trio een lust voor het oor. De muziek laat zich het best vergelijken met de stijl van John Mayer\, The Eagles\, Venice en Crosby\,Stills & Nash. \nDe avond belooft een programma van topklasse\, gebracht met de nodige humor en verhalen.\nNaast Brian Chartrand (gitaar/zang) bestaat het trio uit Peter Day (bas / zang) en Jeff Vallone (Percussie / zang). \nwww.brianchartrand.com\nwww.youtube.com/brianchartrand\nwww.facebook.com/brianchartrandmusic \n1000 Pieces\nhttps://www.youtube.com/watch?v=6p-A41xnSnU\nHowling Wolf\nhttps://www.youtube.com/watch?v=e6t0f2YWaqI\nLutterbek\nhttps://www.youtube.com/watch?v=X0wFQcpi4Xg
URL:https://www.deparelvanzuilen.nl/events/brian-chartrand-trio/
END:VEVENT
BEGIN:VEVENT
DTSTART;TZID=UTC:20190325T201500
DTEND;TZID=UTC:20190325T223000
DTSTAMP:20260420T193256
CREATED:20181113T113254Z
LAST-MODIFIED:20181113T131548Z
UID:6808-1553544900-1553553000@www.deparelvanzuilen.nl
SUMMARY:Trio De Kleer & Gyuszi Rézmuves
DESCRIPTION:Familieorkest Trio De Kleer speelt gypsy & traditionele muziek uit met name de Balkan in de brede zin van het woord\, maar ook Django-Swing en Spaanse rumba’s. Vader Frank de Kleer op Spaanse gitaar en zijn zoons Pjotr en Miguel op ukelele\, basukelele en gitaar. \nOndanks de jonge leeftijd van Miguel en Pjotr (bouwjaar 2003 & 2006)\, speelden zij al met vele topmuzikanten. Zo speelden zij in 2017 met het RosenbergTrio in de BZT-show. \nDe Hongaarse gastmuzikant Gyuszi Rézmuves legt met zijn contrabas en ervaring een basis om het Trio te laten spetteren. Gyuszi Rézmuves is een gedreven bassist die met veel plezier en enthousiasme speelt. Zijn hart ligt bij de Hongaarse muziek\, al vindt hij Bach een componist met een zigeunerhart\, en speelt hij met overgave veel soorten muziek.\nAlle muziek tilt hij op en met heldere toon stuwt en swingt hij het orkest voort. \nKom vooral luisteren naar deze misschien wel vreemde eend in de bite van de Parelsessies. \n 
URL:https://www.deparelvanzuilen.nl/events/trio-de-kleer-gyuszi-rezmuves/
ATTACH;FMTTYPE=image/jpeg:https://www.deparelvanzuilen.nl/wp-content/uploads/2018/11/Trio-de-Kleer.jpg
END:VEVENT
BEGIN:VEVENT
DTSTART;TZID=UTC:20190326T201500
DTEND;TZID=UTC:20190326T223000
DTSTAMP:20260420T193256
CREATED:20190121T151937Z
LAST-MODIFIED:20190121T151937Z
UID:7316-1553631300-1553639400@www.deparelvanzuilen.nl
SUMMARY:Jo Carley and the Old Dry Skulls
DESCRIPTION:What’s in a name. That which we call a rose by any other name would smell as sweet. \nEen uitstapje in de Parelsessies. \nJo Carley heeft haar wortels in de voodoo-gypsy-folk-rock en weet een spookachtig sfeertje neer te zetten met een dikke knipoog. De songs gaan over duistere zaken als voodoo\, rammelende botten en je eigen kerkhof beginnen\, maar even zo goed brengt ze iedereen aan het dansen met nummers als ‘Contemplate your moves’ en ‘Dance till you’re dead’. Tussendoor praat ze de nummers humoristisch aan elkaar en daardoor weet ze haar publiek geïnteresseerd te houden. \nJo speelt banjo\, mandoline\, viool en wasbord en rolt tijdens het zingen op typerende wijze met haar ogen. Tim Carley speelt bassdrum\, hi-hat en gitaar. Een derde lid speelt ditmaal trekharmonica. Voor elk toernee wordt gebruik gemaakt van een andere muzikant\, dus het instrumentarium kan daarmee ook wisselen. Voor de muziek en de show maakt dat niet uit. \nKlik hier maar eens. \nEen kaartje kost 15\,- is hieronder te bestellen. \nEn wil je voorafgaand aan het concert eten in ons restaurant? Reserveer dan je plaats via de onderstaande bookdinnersknop.
URL:https://www.deparelvanzuilen.nl/events/jo-carley-and-the-old-dry-skulls/
ATTACH;FMTTYPE=image/jpeg:https://www.deparelvanzuilen.nl/wp-content/uploads/2019/01/Jo-Carley.jpg
END:VEVENT
BEGIN:VEVENT
DTSTART;TZID=UTC:20190328T201500
DTEND;TZID=UTC:20190328T220000
DTSTAMP:20260420T193256
CREATED:20190205T142221Z
LAST-MODIFIED:20190205T142221Z
UID:7510-1553804100-1553810400@www.deparelvanzuilen.nl
SUMMARY:In de Akoestische Kamer: Sculpting in Flow
DESCRIPTION: ‘Als ik over poëzie spreek\, beschouw ik haar niet als genre. Poëzie is voor mij een wereldbeeld\, een bijzondere verhouding tot de werkelijkheid. Poëzie wordt zo een filosofie die een mens zijn leven lang begeleidt.’ \n(aldus de Russische filmmaker Andrei Tarkovsky) \nAls duo zoeken Miri en Oene ook de poëzie in de combinatie van dans en muziek. Zonder een vooraf bepaald pad volgen ze de verhaallijn van het moment. Sinds twee jaar boetseren ze samen beweging en klank in de tijd. Altijd is er daarbij interactie en avontuur! \nDat delen ze graag met jullie in twee sets van +/- 30 minuten. \nMiri Lee – dans \nOene van Geel – 5 snarige altviool/ zang
URL:https://www.deparelvanzuilen.nl/events/in-de-akoestische-kamer-sculpting-in-flow/
ATTACH;FMTTYPE=image/jpeg:https://www.deparelvanzuilen.nl/wp-content/uploads/2019/02/sculpting-in-flow.jpg
END:VEVENT
BEGIN:VEVENT
DTSTART;TZID=UTC:20190331T150000
DTEND;TZID=UTC:20190331T170000
DTSTAMP:20260420T193256
CREATED:20190117T112359Z
LAST-MODIFIED:20190206T152447Z
UID:7295-1554044400-1554051600@www.deparelvanzuilen.nl
SUMMARY:Laroux: Verse Oesters en Oude Parels | UITVERKOCHT
DESCRIPTION:Laroux speelt op Zondagmiddag 31 maart in de Parel van Zuilen liedjes uit zijn nieuwe programma “Tussen de Buien door” (premiere 2020) en een aantal bekende liedjes uit zijn tweede solo programma “Gekanteld Gras” \nEigenzinniger en breekbaarder dan weleer\, met een strootje in zijn mond en muziek in zijn hoofd\, beziet Laroux het leven. Deze ‘pallieter’’ brengt kleine verhalen van onderweg en kantelt wereldmuziek uit alle windstreken. \nDe klankkleur van de muziek in deze voorstelling ligt in de Balkan\, de Oriënt\, het Vlaanderenland\, maar ook de Mississippi delta. Gemengd met Americana en African high-life music\, is de voorstelling een palet van eigen nummers en vertellingen\, gelardeerd met bewerkingen en teksten van onder andere de Belgische  troubadour Wannes van de Velde\, Tom Waits\, Leonard Cohen en zelfs van de Nederlandse tekstschrijvers Yvo de Wijs en Kees van Kooten. \nIn dit programma bespeelt Laroux vele instrumenten\, waaronder de Fujara (Slowaakse fluit) en de Handpan (hang). Hij wordt die middag bijgestaan door ‘De Meute’ een vrolijk en bont gezelschap muzikanten\, bestaande uit: \nErik van Es\, Peter de Frankrijker\, Ad van Emmerik\, Baaf Stavenuiter en multi-instrumentalist Wouter Kuyper. Allen stuk voor stuk Maitres des Sonneurs. \nWees welkom op een unieke\, eenmalige\, bijzondere zondagmiddag. \nRecensies: \n♦♦♦♦ Folkforum: Laroux is een begenadigd verteller en tekstschrijver en de afwisseling in het repertoire van de zanger getuigd van een open mind. \n♦♦♦♦ Musicmaker: De zagende trekzakken en de vele kleuren in de muziek zetten je aan tot luisteren. Hij is ongekunsteld. Met teksten die vaak een aanklacht zijn tegen onechtheid. \n♦♦♦♦♦ New folk sounds: Laroux heeft met gekanteld gras een werkstuk neergezet dat volledig uit het hart komt en vele muzikale paden samen laat komen. Hij bewijst zich een kundig tekstschrijver\, die een soepel en geloofwaardig taalgebruik hanteert. Zijn nummers blijven in je hoofd spelen. \nKoop hieronder je kaartje voor 12\,- \nEn wil je na het concert lekker eten in ons restaurant? Reserveer dan je plaats via de onderstaande bookdinnersknop. \n \n 
URL:https://www.deparelvanzuilen.nl/events/laroux-verse-oesters-en-oude-parels/
ATTACH;FMTTYPE=image/jpeg:https://www.deparelvanzuilen.nl/wp-content/uploads/2019/01/Laroux.jpg
END:VEVENT
END:VCALENDAR