BEGIN:VCALENDAR
VERSION:2.0
PRODID:-//De Parel van Zuilen - ECPv6.15.20//NONSGML v1.0//EN
CALSCALE:GREGORIAN
METHOD:PUBLISH
X-ORIGINAL-URL:https://www.deparelvanzuilen.nl
X-WR-CALDESC:Evenementen voor De Parel van Zuilen
REFRESH-INTERVAL;VALUE=DURATION:PT1H
X-Robots-Tag:noindex
X-PUBLISHED-TTL:PT1H
BEGIN:VTIMEZONE
TZID:UTC
BEGIN:STANDARD
TZOFFSETFROM:+0000
TZOFFSETTO:+0000
TZNAME:UTC
DTSTART:20180101T000000
END:STANDARD
END:VTIMEZONE
BEGIN:VEVENT
DTSTART;TZID=UTC:20190203T201500
DTEND;TZID=UTC:20190203T223000
DTSTAMP:20260420T165146
CREATED:20181206T103802Z
LAST-MODIFIED:20181206T103825Z
UID:7013-1549224900-1549233000@www.deparelvanzuilen.nl
SUMMARY:Zondag 3 februari ! The Bradley Bunch
DESCRIPTION:The Bradley Bunch is een uit Den Haag afkomstige Ierse band. Hun muziek is traditioneel en hedendaags en heeft een uniek geluid\, mede vanwege de 5-snarige fretloze bas. Een wat ongewoon instrument in de Ierse muziek. Het repertoire bestaat uit vlugge jigs en reels\, polka’s\, zwoele walsjes\, zoetgevooisde ballades en lekkere up-beat liedjes. Deze groep staat garant voor een lekkere swingende avond\, waarbij wij voor een goed getapt glas Guiness zullen zorgen. \nKlik hier voor meer informatie over de band. \n\n\n\n\n\nSharon Bradley – gitaar\, zang en bodhran \n\n\n\n\n\n\n\n\n\n\nHendrik Jan Teerink – mandoline\, banjo en bouzouki \n\n\n\n\n\n\n\n\n\n\nDick Hoppe – Bas en zang \n\n\n\n\n\n\n\n\n\n\nJimmy Ellis – Viool\, mandoline\, gitaar en zang
URL:https://www.deparelvanzuilen.nl/events/the-bradley-bunch/
ATTACH;FMTTYPE=image/jpeg:https://www.deparelvanzuilen.nl/wp-content/uploads/2018/12/Bradley-Bunch.jpg
END:VEVENT
BEGIN:VEVENT
DTSTART;TZID=UTC:20190211T201500
DTEND;TZID=UTC:20190211T223000
DTSTAMP:20260420T165146
CREATED:20181210T111542Z
LAST-MODIFIED:20181210T112736Z
UID:7050-1549916100-1549924200@www.deparelvanzuilen.nl
SUMMARY:Jez Lowe
DESCRIPTION:De uit Noord-Engeland afkomstige singer-songwriter Jez Lowe is al sinds jaren één van de meest gewaardeerde en gevraagde artiesten in de (akoestische) folkscene\, zowel in het Verenigd Koninkrijk als vér daarbuiten. Zijn jaarlijkse tournees brengen hem niet alleen naar de Verenigde Staten\, maar ook naar Nieuw-Zeeland\, Australië\, Canada en Europa. \nZijn nominaties voor de BBC Folk Awards  in de categorieën Best Singer en Best New Song waren een logisch gevolg van het feit dat Jez niet alleen een van de drukste en best bezochte live artiesten in de UK is\, maar daarnaast ook een van de meest gecoverde artiesten. Songs van zijn hand worden en werden onder meer uitgevoerd door Fairport Convention\, The Dubliners en Bob Fox en meer recent door nieuwe sterren aan het firmament zoals The Unthanks\, The Young Uns en The Duhks. \nJez is een zeer betrokken\, bewogen en bevlogen persoonlijkheid en dat wordt weerspiegeld in zijn prachtige songs over het leven in de Noord-Engelse mijnstreek\, over historische gebeurtenissen\, over wantoestanden in de wereld en over het leven van alledag. Songs met soms zware thema’s maar regelmatig doorspekt met een grote dosis humor. Hij is betrokken bij de prijswinnende serie The Radio Ballads van de BBC\, met documentaires over het sluiten van de mijnen\, de 1e wereldoorlog en de kindermigratie in Engeland en Ierland. \nIn het afgelopen jaar heeft hij zijn eerste novelle gepubliceerd\, genaamd The Dillen Doll. Een boek dat zich afspeelt rond de vorige eeuwwisseling en is gebaseerd op historische figuren uit traditionele folksongs. Voor dit project heeft Jez tevens een cd uitgebracht met dezelfde titel. \nJez Lowe is een rasartiest met een prachtige stem \, die zijn publiek weet te ontroeren met een combinatie van prachtige liedjes\, een enorm gevoel voor humor en prima instrumentaal spel op zowel gitaar\, mondharmonica\, mandoline als banjo. \nEen kaartje kost € 15\,– en is hieronder te bestellen. \nEn wil je graag vooraf komen eten in ons restaurant\, reserveer dan je plaats via de onderstaande bookdinnersknop.
URL:https://www.deparelvanzuilen.nl/events/jez-lowe/
ATTACH;FMTTYPE=image/jpeg:https://www.deparelvanzuilen.nl/wp-content/uploads/2018/12/Foto-Jez-Lowe-voor-De-Parel-van-Zuijlen-002.jpg
END:VEVENT
BEGIN:VEVENT
DTSTART;TZID=UTC:20190224T150000
DTEND;TZID=UTC:20190224T170000
DTSTAMP:20260420T165146
CREATED:20190124T111644Z
LAST-MODIFIED:20190223T094306Z
UID:7345-1551020400-1551027600@www.deparelvanzuilen.nl
SUMMARY:Charivari Trio en Janos Koolen | UITVERKOCHT
DESCRIPTION:Het Charivari trio neemt de volksmuziek van Latijns Amerika en Oost Europa als uitgangspunt voor een muzikale reis vol omwegen en thuis te komen met mooie verhalen. Liedjes van Turkije tot Venezuela worden tot leven gebracht met drie stemmen\, drie instrumenten\, subtiel samenspel en avontuurlijke improvisaties. \nIn Melodias del Silencio worden een dwalend meisje in Bulgarije\, nachtelijke avonturen in Venezuela\, een gebroken familievader in Turkije\, en een verdronken vlinder in Spanje samengebonden door virtuoze Roemeense zigeunermuziek\, folklore van het Argentijnse platteland\, en swingende Cubaanse ritmes. \nSpeciale gast vanmiddag is mandolinist Janos Koolen\, die niet alleen schitterde in breekbare ballades en razendsnelle improvisaties\, maar voor het trio ook nog een prachtige compositie schreef! \n\nAnneke Frankenberg\, viool & zang\nBart Lelivelt\, accordeon & zang\nGerard Schoren\, zang & contrabas\n\nSpeciale gast! \n\nJanos Koolen\, mandoline en zang\n\nDe pers hierover: \nWereldfusie op zijn best\, want dit trio plukt werkelijk overal wat vandaan en maakt daar dan weer unieke eigenzinnige Charivarimuziek van. Passie\, melancholie\, het zit er allemaal in – Melodias del Silencio is echt een klein uur lang puur genieten. (Holly Moors | Moorsmagazine.com) \nMelodias del Silencio staat weer vol pareltjes uit de Balkan\, Turkije\, Cuba en andere Latijns-Amerikaanse landen\, maar wat de muziek een kloppend hart geeft is het vuur in de uitvoering en de verrassende details in de arrangementen. Het is een klein mirakel dat de Charivari-methode na ruim dertig jaar triobestaan nog steeds werkt\, zelfs elke keer frisser lijkt te klinken. (Ronald Veerman | MixedWorldmusic.com). \nEen voorproefje? Klik hier. \nEen kaartje kost 15\,- en is hieronder te bestellen. \nEn wil je daarna komen eten in ons restaurant? Reserveer je plaats dan via de onderstaande bookdinnersknop.
URL:https://www.deparelvanzuilen.nl/events/zondagmiddag-charivari-trio-met-melodias-del-silencio/
ATTACH;FMTTYPE=image/jpeg:https://www.deparelvanzuilen.nl/wp-content/uploads/2019/01/Charivari-Janos-002.jpg
END:VEVENT
END:VCALENDAR