BEGIN:VCALENDAR
VERSION:2.0
PRODID:-//De Parel van Zuilen - ECPv6.15.20//NONSGML v1.0//EN
CALSCALE:GREGORIAN
METHOD:PUBLISH
X-ORIGINAL-URL:https://www.deparelvanzuilen.nl
X-WR-CALDESC:Evenementen voor De Parel van Zuilen
REFRESH-INTERVAL;VALUE=DURATION:PT1H
X-Robots-Tag:noindex
X-PUBLISHED-TTL:PT1H
BEGIN:VTIMEZONE
TZID:UTC
BEGIN:STANDARD
TZOFFSETFROM:+0000
TZOFFSETTO:+0000
TZNAME:UTC
DTSTART:20180101T000000
END:STANDARD
END:VTIMEZONE
BEGIN:VEVENT
DTSTART;TZID=UTC:20190121T201500
DTEND;TZID=UTC:20190121T223000
DTSTAMP:20260420T180622
CREATED:20181128T145321Z
LAST-MODIFIED:20181128T152030Z
UID:6931-1548101700-1548109800@www.deparelvanzuilen.nl
SUMMARY:Herman Brock Junior (is terug !!)
DESCRIPTION:Al eerder speelde Herman Brock Junior met zijn Brockettes hier de voegen uit de muren. Hij is terug. Met oud materiaal van zijn destijds gelanceerde CD The Old World maar ook met gloednieuw materiaal. En dat laatste is natuurlijk extra interessant\, want de pers zei het volgende over Herman Brock. \n“Een heerlijke Nederlandse bluegrassplaat.” Robert van Gijssel\, Volkskrant (vier sterren)  \n “The Old World van Herman Brock Jr is een sensationeel goed album geworden. Ik herhaal\, een sensationeel goed album!” Hugo Vogel\, Altcountry.nl \nHerman Brock Jr. is een linkshandige bluegrass-\, americana- en bluesmuzikant\, multi-instrumentalist en singer-songwriter uit Terneuzen. Het begin 2015 op cd en vinyl verschenen bluegrass-album ‘The Old World’ heeft hij opgenomen met medewerking van the Blue Grass Boogiemen\, Joost van Es\, Janos Koolen\, Jeroen Schmohl\, Herman Brock Sr\, The Brockettes\, The Blue Grass Bunch\, Laurens Joensen en vele andere groten uit de top van de Nederlandse bluegrass scene. Het bevat veertien nummers van zijn eigen hand en twee van zijn vader Herman Brock Sr. \nHerman Brock Jr.: “Ik had het idee om iets te doen met verhalen van vroeger uit de streek van waar ik ben opgegroeid. De titel ‘The Old World’ gaat over iemand die zijn heil gaat zoeken in Amerika. Mijn opa en mijn vader vertelden vroeger dat in de jaren ’20 veel mensen uit Zeeland met de boot naar Amerika gingen om een beter leven te vinden. En dan vertelde mijn opa dat er mensen terug kwamen met pakken geld. Ze hadden keihard moeten werken\, maar ze hadden wel een beter leven dan ze hier hadden achtergelaten. Dat intrigeerde mij als klein mannetje al.” \nEr wordt gepassioneerd gemusiceerd en dat gecombineerd met de enthousiaste en vermakelijke presentatie maken de show moeiteloos van begin tot eind boeiend. \nEen kaartje kost 15\,- en is hieronder te bestellen. \nVoorproefje? Klik hier \nEn wil je lekker komen eten in ons restaurant? Reserveer dan een plaats via onderstaande bookdinnersknop.
URL:https://www.deparelvanzuilen.nl/events/herman-brock-junior-is-terug/
ATTACH;FMTTYPE=image/jpeg:https://www.deparelvanzuilen.nl/wp-content/uploads/2018/11/Herman-Brock-Jr-Brock-and-the-Brockettes-foto-Bert-Lek-klein.jpg
END:VEVENT
BEGIN:VEVENT
DTSTART;TZID=UTC:20190127T153000
DTEND;TZID=UTC:20190127T170000
DTSTAMP:20260420T180622
CREATED:20181215T143751Z
LAST-MODIFIED:20190124T103933Z
UID:7100-1548603000-1548608400@www.deparelvanzuilen.nl
SUMMARY:Zondagmiddag 27 januari: Releaseconcert Vals Paradijs
DESCRIPTION:Misschien heb je nog nooit van haar gehoord\, maar na deze albumpresentatie in de Parel van Zuilen vergeet je haar nooit meer. In’t Veld en haar band veroveren het publiek in hoog tempo.\nOf het door haar accordeon komt\, haar typerende warme stem of de herkenbare Taylor gitaarklanken van Johan Fransen weet niemand precies. Maar de liedjes van Caroline spelen met je gevoel. Simpel geschreven in de Nederlandse taal\, uitermate muzikaal\, en direct raak. De band componeert vaak werk in opdracht van maatschappelijke organisaties. Daardoor is de groep een sterk makerscollectief geworden. De doorgewinterde muzikanten worden voortdurend uitgedaagd in weinig tijd het beste van zichzelf te laten horen. In’t Veld lijkt daardoor helemaal nergens meer op. Op Vals Paradijs maakt ze van ieder liedje een bijzonder eigentijds klankschilderijtje. De band verrast vriend en vijand\, is muzikaal de kleinkunst voorbij\, te poëtisch voor popmuziek en zeker te intelligent voor de Hollandse hits podia. Omroep Flevoland heeft Vals Paradijs van de Almeerse songwriter verkozen tot nieuwjaarsconcert 2019. Haar crowdfunding campagne voor dit album leverde binnen 14 dagen ruim 5600 euro op. In’t Veld kan daardoor lekker haar eigen gang gaan. Ze laat haar band stralen en sluit het publiek in haar hart. Voor dit concert is in de Parel van Zuilen een speciaal combinatieticket verkrijgbaar (entree+album). \nBezetting: \nCaroline in’t Veld accordeon/digi accordeon/zang\nJohan Fransen Taylor/Gretsch gitaar\nJoost van den Akker bas/ contrabas\nJohn Kakiay drums/percussie\nLars Posthumus alt-saxofoon/ electric wind instrument\ngasten:\nDirk Ries vocalen\nWillem de Vries poëzie \nVoor meer info: klik hier \nEen kaartje kost 15\,– en is hieronder te bestellen. Bestel je ook de vinylversie van het album\, dan krijg je daar 5\,– korting op. In de losse verkoop kosten de albums 20\,– \nEn wil je na het concert komen eten in ons restaurant? Reserveer dan je plaats via onderstaande bookdinnersknop. \n \n 
URL:https://www.deparelvanzuilen.nl/events/zondagmiddag-27-januari-releaseconcert-vals-paradijs/
END:VEVENT
BEGIN:VEVENT
DTSTART;TZID=UTC:20190131T201500
DTEND;TZID=UTC:20190131T223000
DTSTAMP:20260420T180622
CREATED:20181211T135551Z
LAST-MODIFIED:20181211T135551Z
UID:7066-1548965700-1548973800@www.deparelvanzuilen.nl
SUMMARY:In de Akoestische Kamer: Munnelly en McGowan
DESCRIPTION:De eerste Akoestische Kamer van 2019. Dit bijzondere concept gaat van start met het duo Shane Mc Gowan en David Munnelly. Shane en David spelen al hun helen leven samen. Hun gecombineerde geluid is een mix van traditionele muziek en een frisse mix van nieuwe composities. \nAl eerder waren zij in De Parel van Zuilen en hun vriendschap klinkt door in hun muziek. Kom kijken naar deze twee virtuozen. \nShane Mc Gowan: gitaar \nDavid Munnelly: diatonische trekharmonica \nVoorproefje? Klik hier \nEen kaartje kost 13\,– en is hieronder te bestellen. \nEn wil je voorafgaand lekker eten in ons restaurant? Reserveer dan je plaats via de onderstaande bookdinnersknop.
URL:https://www.deparelvanzuilen.nl/events/in-de-akoestische-kamer-munnelly-en-mcgowan/
ATTACH;FMTTYPE=image/jpeg:https://www.deparelvanzuilen.nl/wp-content/uploads/2018/12/munnellymcgowan.jpg
END:VEVENT
END:VCALENDAR