BEGIN:VCALENDAR
VERSION:2.0
PRODID:-//De Parel van Zuilen - ECPv6.15.20//NONSGML v1.0//EN
CALSCALE:GREGORIAN
METHOD:PUBLISH
X-ORIGINAL-URL:https://www.deparelvanzuilen.nl
X-WR-CALDESC:Evenementen voor De Parel van Zuilen
REFRESH-INTERVAL;VALUE=DURATION:PT1H
X-Robots-Tag:noindex
X-PUBLISHED-TTL:PT1H
BEGIN:VTIMEZONE
TZID:UTC
BEGIN:STANDARD
TZOFFSETFROM:+0000
TZOFFSETTO:+0000
TZNAME:UTC
DTSTART:20170101T000000
END:STANDARD
END:VTIMEZONE
BEGIN:VEVENT
DTSTART;TZID=UTC:20180917T201500
DTEND;TZID=UTC:20180917T223000
DTSTAMP:20260422T025814
CREATED:20180819T135842Z
LAST-MODIFIED:20180819T135842Z
UID:5914-1537215300-1537223400@www.deparelvanzuilen.nl
SUMMARY:O'Dreams
DESCRIPTION:O’DREAMS keert terug naar de plekken in Ierland waar hun gezamenlijke avontuur ooit begon. Om breuken te helen en nieuwe crashes te voorkomen. Schieten de scheuren steeds verder in hun onderlinge verhoudingen? Of komen ze zelf én samen sterker terug dan ooit? Een bewogen reis van drie muziekvrienden door Ierland. Een ware trilogie met parels van Ierse songs als hun enige kompas. Dwars over de breuklijnen van zowel hun vriendschap als het land dat hen zo lief is. \nZe waren al eerder in De Parel van Zuilen en toen betreurde menigeen het feit dat de avond was uitverkocht. Wees er nu dus snel bij. \nDanny Guinan: zang / gitaar \nJohn Flierman (alias ’The Dutch Christy Moore’): zang / gitaar / bodhran \nEd Veltrop:  zang / piano / accordeon \nEen kaartje kost € 15\,–\, hieronder te bestellen en reserveer via deze aparte knop ook je plaats in ons restaurant. \n \n 
URL:https://www.deparelvanzuilen.nl/events/odreams/
ATTACH;FMTTYPE=image/jpeg:https://www.deparelvanzuilen.nl/wp-content/uploads/2018/08/ODreams.jpg
END:VEVENT
BEGIN:VEVENT
DTSTART;TZID=UTC:20180924T203000
DTEND;TZID=UTC:20180924T223000
DTSTAMP:20260422T025814
CREATED:20180819T143124Z
LAST-MODIFIED:20180830T082235Z
UID:5934-1537821000-1537828200@www.deparelvanzuilen.nl
SUMMARY:BlueMaxx
DESCRIPTION:BlueMaxx is een Belgische bluegrassband opgericht in 2009 door muzikanten uit de Antwerpse Kempen Deze jongens beoefenen al jarenlang dit opwindend genre dat in het kielzog van de bijna-een-Oscar-gewonnen-hebbende Vlaamse film ‘A broken circle breakdown’ een bredere weerklank kreeg in het Vlaamse folkmuzieklandschap. \nBluegrassmuziek  is een voortzetting van de oude stringbandmuziek die zowel in de Europese als Afro-Amerikaanse tradities zijn wortels heeft. Als één van de weinige soorten folkmuziek heeft bluegrass een jazzachtige structuur: één instrument speelt een solo\, terwijl alle andere de begeleiding vervullen. De solo gaat vervolgens over van het ene instrument op het andere. Minstens zo belangrijk voor de definitie van het genre is de zang: de lead – vaak ongewoon hoog – de twee-\, drie- of vierstemmige harmonieën\, waarin de stemmen versmelten tot één geheel. \nIn 2015 presenteerde BlueMaxx zijn eerste full-cd ‘A wicked path of sin’ waardoor de groep doorstootte naar de hogere regionen van het Benelux bluegrassgebeuren. \nDoor deze cd en hun performances tijdens de diverse Low Country Bluegrassfestivals in Oelegem (B) \, het Ewobfestival (NL)  (European World of Bluegrass) en het internationale bluegrassfestival in La Roche-sur-Foron  (F) en hun vele concert-en caféoptredens is BlueMaxx een naam met weerklank geworden. \nBezetting \nDieter Van Peteghem : Guitar\, zang \nGerd Van Loock : Banjo \nStefaan Van Laethem : Fiddle\, zang \nJan Michielsen : Mandoline \, zang \nLuc Van Peteghem : Bas \, zang \n  \nEen kaartje kost € 15\,–\, hieronder te bestellen. \nReserveer je plaats in ons restaurant via de aparte\, hieronder staande knop
URL:https://www.deparelvanzuilen.nl/events/bluemaxx/
ATTACH;FMTTYPE=image/jpeg:https://www.deparelvanzuilen.nl/wp-content/uploads/2018/08/BlueMaxx-002.jpg
END:VEVENT
BEGIN:VEVENT
DTSTART;TZID=UTC:20180927T201500
DTEND;TZID=UTC:20180927T223000
DTSTAMP:20260422T025814
CREATED:20180820T142500Z
LAST-MODIFIED:20180917T120602Z
UID:5981-1538079300-1538087400@www.deparelvanzuilen.nl
SUMMARY:In de Akoestische Kamer: Munnelly and Masure
DESCRIPTION:We beginnen weer met de wonderschone reeks\, getiteld De Akoestische Kamer. Iedere maand een mooi\, geheel akoestisch luisterconcert\, georganiseerd door David Munnelly. \nDeze keer David Munnelly (the master himself) en zijn goede vriend en muziekmaat Philip Masure. \n\n\nDavid Munnelly en Philip Masure hebben elkaar ontmoet bij een sessie in Co Mayo\, Ierland\, in 1998. Ze waren direct aangetrokken tot elkaars muziek. Sindsdien toeren ze regelmatig samen over de hele wereld als een duo\, maar ook in andere samenstellingen zoals Andar\, MFM en The David Munnelly Band. \nAls duo brengen ze een bijzondere combinatie van instrumentale muziek en zang\, geïnspireerd door de Ierse traditie\, gelardeerd met de Vlaamse komaf van Philip. \nOok al spelen ze samen vooral Ierse muziek\, hun gezamenlijke repertoire bevat veel van hun eigen composities\, die vaak meer klassiek of jazzy zijn dan Iers. Dit is allemaal in de smeltkroes gedaan\, met daarbij nog wat gezonde humor. Kom vooral \, want deze twee zijn het beluisteren meer dan waard. \n\nEen voorproefje is hier te beluisteren. \nEn hier ook. \n\nEen kaartje is hieronder te bestellen voor € 12\,– \n\n\nReserveer je plaats in ons restaurant via onderstaande bookdinnersknop.
URL:https://www.deparelvanzuilen.nl/events/in-de-akoestische-kamer-piggot-and-harrington/
ATTACH;FMTTYPE=image/jpeg:https://www.deparelvanzuilen.nl/wp-content/uploads/2018/08/masure-en-munnelly.jpg
END:VEVENT
END:VCALENDAR