BEGIN:VCALENDAR
VERSION:2.0
PRODID:-//De Parel van Zuilen - ECPv6.15.20//NONSGML v1.0//EN
CALSCALE:GREGORIAN
METHOD:PUBLISH
X-WR-CALNAME:De Parel van Zuilen
X-ORIGINAL-URL:https://www.deparelvanzuilen.nl
X-WR-CALDESC:Evenementen voor De Parel van Zuilen
REFRESH-INTERVAL;VALUE=DURATION:PT1H
X-Robots-Tag:noindex
X-PUBLISHED-TTL:PT1H
BEGIN:VTIMEZONE
TZID:UTC
BEGIN:STANDARD
TZOFFSETFROM:+0000
TZOFFSETTO:+0000
TZNAME:UTC
DTSTART:20170101T000000
END:STANDARD
END:VTIMEZONE
BEGIN:VEVENT
DTSTART;TZID=UTC:20180604T201500
DTEND;TZID=UTC:20180604T221500
DTSTAMP:20260422T054255
CREATED:20180503T100732Z
LAST-MODIFIED:20180516T094815Z
UID:5555-1528143300-1528150500@www.deparelvanzuilen.nl
SUMMARY:Trio Kroonenberg\, Linneman & van der Zalm
DESCRIPTION:De krachtenbundeling van Philip Kroonenberg met bassiste Arwen Linnemann en multi-instrumentalist Rens van der Zalm leidde tot het prachtige album ‘Light’\, dat in oktober 2017 verscheen. \nPhilip schreef voor dit album compacte teksten met een hoog autobiografisch karakter\, over het leven\, de liefde en de dood. De lyriek in spel en samenzang van Philip\, Arwen en Rens geven de songs van ‘Light’ een betoverende schoonheid. De muziek kent Americana\, Folk en Calypso invloeden en heeft een akoestisch\, intiem en warm karakter. \nHet is een genot dit trio live te beluisteren en te zien. Met een ontwapenende eerlijkheid en overgave brengt Philip de nummers ten gehore. Hij vertelt tussendoor\, vaak op hilarische wijze\, over de songs\, over zijn leven en over dat van anderen. Samen met het warme en stuwende basgeluid van Arwen\, en de virtuoze klanken van Rens\, (die met een keur aan snaarinstrumenten vaak handen tekort komt)\, weet Philip het publiek te ontroeren\, aan het lachen te brengen\, te louteren en te inspireren.
URL:https://www.deparelvanzuilen.nl/events/trio-kroonenberg-linneman-van-der-zalm/
ATTACH;FMTTYPE=image/jpeg:https://www.deparelvanzuilen.nl/wp-content/uploads/2018/05/Kroonenberg.jpg
END:VEVENT
BEGIN:VEVENT
DTSTART;TZID=UTC:20180611T201500
DTEND;TZID=UTC:20180611T221500
DTSTAMP:20260422T054255
CREATED:20180503T100932Z
LAST-MODIFIED:20180513T104204Z
UID:5558-1528748100-1528755300@www.deparelvanzuilen.nl
SUMMARY:The Sunset Travelers met Roel Spanjers
DESCRIPTION:Sunset Travelers is een Roots-band die een smakelijke ‘Gumbo’ bereidt met muzikale ingrediënten uit het Diepe Zuiden van de VS. Denk aan Memphis-Soul\, de Rhythm & Blues en Boogie uit New Orleans en Blues uit Mississippi. Achter het vettige fornuis staan 4 ervaren sterrenkoks: Roel Spanjers op zang\, Hammond orgel & piano (bekend van o.a. Luther Allison\, Normaal)\, meestergitarist/zanger Richard van Bergen\, Nico Heilijgers op basgitaar en JJ Goossens achter de drums. Alles wordt met verstand van zaken\, plezier én swing gebracht. \nEen unieke kans om deze band weer eens aan het werk te zien; zij maken momenteel sinds lange tijd weer een tour langs de vaderlandse podia. \n(cd: ‘For the Sake of it’\, Black & Tan Records) \n 
URL:https://www.deparelvanzuilen.nl/events/the-sunset-travelers-met-roel-spanjers/
ATTACH;FMTTYPE=image/jpeg:https://www.deparelvanzuilen.nl/wp-content/uploads/2018/05/sunset-trav.-foto-jpg.jpg
END:VEVENT
BEGIN:VEVENT
DTSTART;TZID=UTC:20180618T201500
DTEND;TZID=UTC:20180618T223000
DTSTAMP:20260422T054255
CREATED:20180503T101718Z
LAST-MODIFIED:20180503T102100Z
UID:5561-1529352900-1529361000@www.deparelvanzuilen.nl
SUMMARY:Maurice van Hoek & Company
DESCRIPTION:“Drie akkoorden en de waarheid!” \nMaurice van Hoek (25 januari 1992) ontvlucht in 2015 het conservatorium en stelt in drie maanden Amerika vast dat country zijn leven is. Hij trekt naar de seventies countryfolk van The Eagles en James Taylor. Op zijn zwerftocht schrijft hij voor het eerst persoonlijke songs over zijn belevenissen en emoties. Ze vormen de basis voor zijn debuutalbum Live Forevermore.\nIn Amerika laat Maurice alles los. Hij voelt zich meer dan ooit aangetrokken tot country. “Drie akkoorden en de waarheid spreken\, dat moet je kunnen. Alles wat het liedje dient.”\, aldus van Hoek. De muzikant keert opgelucht terug\, met een visie en eindelijk een reden te doen wat hij het liefst doet\, songs schrijven.\nTerug in Nederland voltooit hij zijn studie en werkt tegelijkertijd aan zijn composities\, een band en zijn eerste album. Live Forevermore komt uit op 6 mei 2016. Maurice studeert cum laude af en krijgt lovende recensies op het album. Maurice speelt waar hij kan: duo- optredens\, huiskamerconcerten en de hoek van de straat\, met zijn gitaar en mondharmonica.\nIn 2017 groeien Maurice en zijn band naar een hechte eenheid\, hij schrijft veel nieuwe songs en stippelt een strak pad uit naar de toekomst. Zijn nieuwe album verschijnt in het najaar van 2018 op Dox Records. Met dit album zet hij de ontwikkeling tot ‘Country fenomeen’ voort. \nBoek hieronder je kaartje en via deze link een reservering in ons restaurant \nPERS:\n“Dit is on-Nederlands goed” – De Amer\n“Een parel om te koesteren” – OOR\n“Maurice van Hoek proves to be the real deal with his debut album and the best is only yet to come from him” – Country Perspectve (Nashville)\n“Zeer veelbelovend debuutalbum” – Altcountry.nl \nKlik hier voor zijn eigen site \nEn Klik hier voor een voorproefje
URL:https://www.deparelvanzuilen.nl/events/maurice-van-hoek-company/
ATTACH;FMTTYPE=image/jpeg:https://www.deparelvanzuilen.nl/wp-content/uploads/2018/05/Maurice-van-Hoek.jpg
END:VEVENT
BEGIN:VEVENT
DTSTART;TZID=UTC:20180625T201500
DTEND;TZID=UTC:20180625T223000
DTSTAMP:20260422T054255
CREATED:20180619T125153Z
LAST-MODIFIED:20180625T105209Z
UID:5778-1529957700-1529965800@www.deparelvanzuilen.nl
SUMMARY:The Bluegrass Boogiemen sluiten de parelsessies spetterend af !
DESCRIPTION:Zoals gezegd. Een lekker raggend einde van dit mooie parelsessieseizoen. En hoe kun je dat beter doen dan met de Bluegrass Boogiemen. \nOoit begonnen zij als straatmuzikanten in de Utrechtse binnenstad\, maar al gauw werden diverse grenzen overschreden.  Van het Lowlands festival in Biddinghuizen tot de Continental Club in ‘live music capitol of the world’ Austin\, Texas; van het Into The Great Wide Open-festival op Vlieland tot ’s werelds meest beroemde bluegrassclub de Station Inn in Nashville\, Tennessee; van het North Sea Jazz festival in Rotterdam tot de Rodeo bar in New York; van het Visaginas International Countrymusic festival in Litouwen tot het International Bluegrass festival in Oklahoma\, ze traden er op. Al ruim zeventwintig jaar staan de Blue Grass Boogiemen voor het beste wat Nederland qua authentieke rootsmuziek te bieden heeft. Maar laat u niets op de mouw spelden; hieronder wat quotes van Amerikaanse kenners zelf: \n\nThe Washington Post: ‘The Boogiemen mimicked American music icons with absolute accuracy and joy. Mandolinist Arnold Lasseur did Bill Monroe proud.\n\n  \n\nThe Daily Oklahoman: ‘The Blue Grass Boogiemen\, a band from the Netherlands\, stands out as one of the most  eclectic at the Oklahoma International BlueGrass festival. The band gleefully plays all over the musical map\, mixing tunes by bluegrass legends Monroe and Jimmy Martin with vintage country standards by Hank Williams and George Jones\, and had the crowd in Guthrie clapping\, stomping and whistling for more.\n\n  \n\nBluegrass Unlimited Magazine: ‘The music is high energy bluegrass at its finest and establishes this band as a truly international phenomenon.\n\n  \n\nBluegrass Now Magazine: ‘They have the tightest harmony of any band I’ve heard. I must say I’ve never heard it done better.’\n\n  \n\nChris Hillman (van o.a. The Byrds): ‘You don’t have to be from Kentucky or Nashville to know this music. To feel and understand the soul of bluegrass\, that’s what it’s all about. The Boogiemen swing. And they swing hard and fast..’ \n\nZo ! Dat moest er even uit. \nKom vooral even lekker genieten van deze laatste Parel van een sessie. Daarna rusten we uit tot 17 september. \nKoop je kaartje voor € 15\,– en reserveer hier je plaats in het restaurant.
URL:https://www.deparelvanzuilen.nl/events/the-bluegrass-boogiemen-sluiten-de-parelsessies-spetterend-af/
END:VEVENT
END:VCALENDAR