BEGIN:VCALENDAR
VERSION:2.0
PRODID:-//De Parel van Zuilen - ECPv6.15.20//NONSGML v1.0//EN
CALSCALE:GREGORIAN
METHOD:PUBLISH
X-ORIGINAL-URL:https://www.deparelvanzuilen.nl
X-WR-CALDESC:Evenementen voor De Parel van Zuilen
REFRESH-INTERVAL;VALUE=DURATION:PT1H
X-Robots-Tag:noindex
X-PUBLISHED-TTL:PT1H
BEGIN:VTIMEZONE
TZID:UTC
BEGIN:STANDARD
TZOFFSETFROM:+0000
TZOFFSETTO:+0000
TZNAME:UTC
DTSTART:20170101T000000
END:STANDARD
END:VTIMEZONE
BEGIN:VEVENT
DTSTART;TZID=UTC:20180402T201500
DTEND;TZID=UTC:20180402T221500
DTSTAMP:20260424T204605
CREATED:20180217T104408Z
LAST-MODIFIED:20180217T104408Z
UID:4836-1522700100-1522707300@www.deparelvanzuilen.nl
SUMMARY:Wink Burcham & Paul Wilkes
DESCRIPTION:Singer/songwriter\, Wink Burcham\, is al heel wat jaren deel van de Tulsa (Oklahoma) music scene en wordt nog steeds gezien als deel van een groep getalenteerde nieuwkomers in de scene. \nHij heeft in de loop der tijd een trouwe schare fans opgebouwd en werkt in een stijl die gemakkelijk zou kunnen passen tussen ouderwetse country\, grass-roots folk\, en Motown-geïnspireerde blues \nZijn met gevoel gekozen melodieën onderstrepen vindingrijke – en welgemeende teksten in de traditie van John Prine\, Townes van Zandt\, Hank Williams\, en John Lee Hooker. \nWink kan beschreven worden als een “oude ziel” en zijn volwassen\, ambachtelijke stijl doet de luisteraar soms vergeten dat hij te maken heeft met een jonge artiest. Deze songs vertellen diepgaand over zijn levenservaring\, waar hij bovengemiddeld over beschikt. Een albumtitel: “Irene Vennie”\, verwijst direct naar zijn grootmoeders naam. \nIn 2012 won Wink Burcham de ‘Best solo/duo act’ van de Blues Society of Tulsa\, en in 2013 stond hij in de finale van de ‘International Blues Challenge’ in Memphis\, Tennessee. \nZijn song “Town in Oklahoma”\, van “The New Tulsa Sound Vol. 2: The Church Studio Sessions Album” werd nummer 2 op de lijst van 50.000 lezers van ‘This Land’. \nHorton Records bracht in mei 2013 “Comfortable Shoes” uit\, en in 2016 het album “Cleveland Summer Nights”. \n  \nhttps://www.youtube.com/watch?v=WHPLC8LL9HY \nRecensie Blues Magazine: \nhttps://www.bluesmagazine.nl/recensie-wink-burcham-cleveland-summer-nights/ \n 
URL:https://www.deparelvanzuilen.nl/events/wink-burcham-paul-wilkes/
ATTACH;FMTTYPE=image/jpeg:https://www.deparelvanzuilen.nl/wp-content/uploads/2018/02/wink.jpg
END:VEVENT
BEGIN:VEVENT
DTSTART;TZID=UTC:20180409T201500
DTEND;TZID=UTC:20180409T223000
DTSTAMP:20260424T204605
CREATED:20180208T123625Z
LAST-MODIFIED:20180405T090119Z
UID:4740-1523304900-1523313000@www.deparelvanzuilen.nl
SUMMARY:Lloyd Spiegel
DESCRIPTION:De tot viervoudig Australian Blues Award winnaar uitgeroepen muzikant toert weer door Nederland en dus… langs De Parel van Zuilen. \nMet een achttal cd’s op zijn naam\, een onafgebroken tourschema en dito podium ervaring is Lloyd Spiegel uitgegroeid tot de drijvende kracht van akoestische bluesscene in Australië. In het toonaangevende Australian Guitar Magazine werd Lloyd opgenomen in een lijst van 50 Australische top-gitaristen aller tijden. Hij mocht in zijn thuisland niet minder dan vier Australian Blues Music Awards in ontvangst nemen voor Artiest\, Song\, Album en Producer van het Jaar. \nDit zegt de pers: \n“Spiegel has stamped himself as one of the best songwriters in the country\, regardless of genre\, of history\, of ANYTHING. It’s a powerhouse of brutal honestly.” – Rhythms Magazine \n“A guitarist almost without peer… Spiegel deconstructs how the Blues guitar is supposed to operate\, makes sweet love to it\, then kicks it out the back door.” – Australian Guitar Magazine. \nBestel hieronder je kaartje. En wil je dineren voorafgaand aan deze Parelsessie\, reserveer dan via deze link je plaats in het restaurant.
URL:https://www.deparelvanzuilen.nl/events/lloyd-spiegel/
ATTACH;FMTTYPE=image/jpeg:https://www.deparelvanzuilen.nl/wp-content/uploads/2018/02/lloyd-spiegel-pers-e1456706552785.jpg
END:VEVENT
BEGIN:VEVENT
DTSTART;TZID=UTC:20180416T201500
DTEND;TZID=UTC:20180416T223000
DTSTAMP:20260424T204605
CREATED:20180217T105517Z
LAST-MODIFIED:20180404T095418Z
UID:4849-1523909700-1523917800@www.deparelvanzuilen.nl
SUMMARY:Jeff Cardey (Canada) & Benjamin Steegen (Belgie)
DESCRIPTION:Als hedendaagse troubadours brengen Jeff Cardey (Canada – zang\, gitaar\, mandoline) en Benjamin Steegen (Belgie – zang\, gitaar)  de meest ontroerende en melancholische songs van hun favoriete singer-songwriters\, die niet toevallig vaak uit Texas komen. Liefhebbers van pakweg Townes Van Zandt\, Guy Clark en Blaze Foley worden op hun wenken bediend! Wat is er mooier dan jezelf een avond onder te dompelen in een warm bad van weemoed\, onbeantwoorde liefde en spijt\, afgewisseld met de nodige humor? \nJeff Cardey (1974) is een Canadese mandoline- en gitaarvirtuoos die door de liefde in Brussel belandde. Hij studeerde klassieke gitaar aan de University of Toronto\, maar is thuis in allerlei genres\, van jazz en fusion tot old-time en bluegrass. Naast dit duo is hij tegenwoordig actief in drie bands (Rawhide\, Tennessee Studs en Louvat Bros)\, waarmee hij heeft opgetreden in heel Europa\, de USA\, en zelfs India. \nBluegrassliefhebbers kennen Benjamin Steegen (1975) als stichtend lid van de Belgische band Sons of Navarone\, waar hij zich vooral liet opmerken als een wonderbaarlijk en veelzijdig vocalist. Vanaf 2011 keert hij terug naar zijn eerste muzikale liefde: Amerikaanse folk en singer-songwriters die bij ons (relatief) onbekend en dus onbemind zijn. Zijn doorleefde vertolkingen getuigen van respect en liefde voor het verhaal\, de poëzie van elke song. \nKlik hier voor een voorproefje \nBestel hieronder je kaartje en boek via deze link je restaurantreservering
URL:https://www.deparelvanzuilen.nl/events/coming-soon/
ATTACH;FMTTYPE=image/jpeg:https://www.deparelvanzuilen.nl/wp-content/uploads/2018/02/jeff-cardey.jpg
END:VEVENT
BEGIN:VEVENT
DTSTART;TZID=UTC:20180423T201500
DTEND;TZID=UTC:20180423T223000
DTSTAMP:20260424T204605
CREATED:20180207T140005Z
LAST-MODIFIED:20180405T084812Z
UID:4682-1524514500-1524522600@www.deparelvanzuilen.nl
SUMMARY:Whispering Tree
DESCRIPTION:Aan de wortels van The Whispering Tree staan oorspronkelijke oprichters singer/songwriter Eleanor Kleiner (uit New York) en multi-instrumentalist Elie Brangbour (uit Troyes\, Frankrijk). Met hun brede\, verstrekkende geluid\, hun meeslepende stemgeluid en levendige teksten\, heeft dit Franco- Amerikaanse duo muziekliefhebbers voor zich veroverd over de hele wereld. \nZij verhuisden naar de USA\, trouwden\, en begonnen met optreden als The Whispering Tree in 2007. Deze aanvankelijk complete band\, transformeerde zich in de loop der jaren om allerlei redenen tot het huidige\, in alle opzichten opmerkelijk hechte duo. \nHun debuut – album ‘Go Call the Captain’ werd door diverse vakbladen (waaronder NYC’s The Deli en The Big Takeover Magazine) geroemd. Ze noemden The Whispering Tree “een van de meest getalenteerde duo’s op de New Yorkse podia van dit moment.  Na hun verhuizing naar de Hudson River Valley\, produceerden zij hun volgende album\, een EP genaamd ‘The Escape’\, en ze hadden bijzondere samenwerking projecten met Pete Seeger en Lorre Wyatt (‘A More Perfect Union’). \nBestel hieronder je kaartje en als je wilt dineren voorafgaand aan deze Parelsessie\, reserveer dan via deze link je plaats in het restaurant. \n 
URL:https://www.deparelvanzuilen.nl/events/whispering-tree/
ATTACH;FMTTYPE=image/jpeg:https://www.deparelvanzuilen.nl/wp-content/uploads/2018/02/whispering-Tree.jpg
END:VEVENT
BEGIN:VEVENT
DTSTART;TZID=UTC:20180425T201500
DTEND;TZID=UTC:20180425T221500
DTSTAMP:20260424T204605
CREATED:20180404T094247Z
LAST-MODIFIED:20180404T095743Z
UID:5417-1524687300-1524694500@www.deparelvanzuilen.nl
SUMMARY:In de Akoestische Kamer - Ven_ture
DESCRIPTION:Ze begonnen met praten\, deze drie artiesten. Praten over arrangementen voor viool\, accordeon en vocals. En na een tijdje experimenteren werden de ideeen werkelijkheid en ontstonden schitterende composities. Nieuwe arrangementen voor oude muziek. Onconventioneel en schitterend. \nKom kijken en zit er\, zoals gewoonlijk bij een Akoestische Kamer\, bovenop !. \nReserveer hieronder je kaartje en reserveer via deze link je restaurantreservering. \nKlik hier voor een voorproefje. \nZang: Anne Brennan \nViool: Joseph Mc Nulty \nAccordeon: David Munnelly \n 
URL:https://www.deparelvanzuilen.nl/events/in-de-akoestische-kamer-ven_ture/
ATTACH;FMTTYPE=image/jpeg:https://www.deparelvanzuilen.nl/wp-content/uploads/2018/04/venture-002-_002_.DPI_300.jpg
END:VEVENT
END:VCALENDAR