BEGIN:VCALENDAR
VERSION:2.0
PRODID:-//De Parel van Zuilen - ECPv6.15.20//NONSGML v1.0//EN
CALSCALE:GREGORIAN
METHOD:PUBLISH
X-WR-CALNAME:De Parel van Zuilen
X-ORIGINAL-URL:https://www.deparelvanzuilen.nl
X-WR-CALDESC:Evenementen voor De Parel van Zuilen
REFRESH-INTERVAL;VALUE=DURATION:PT1H
X-Robots-Tag:noindex
X-PUBLISHED-TTL:PT1H
BEGIN:VTIMEZONE
TZID:UTC
BEGIN:STANDARD
TZOFFSETFROM:+0000
TZOFFSETTO:+0000
TZNAME:UTC
DTSTART:20170101T000000
END:STANDARD
END:VTIMEZONE
BEGIN:VEVENT
DTSTART;TZID=UTC:20180114T201500
DTEND;TZID=UTC:20180114T220000
DTSTAMP:20260426T000851
CREATED:20171217T104723Z
LAST-MODIFIED:20180113T134033Z
UID:4107-1515960900-1515967200@www.deparelvanzuilen.nl
SUMMARY:Extra concert Frédérique Spigt & Band | UITVERKOCHT
DESCRIPTION:Waar Spigt\, Spanjers\, Koolen en van Es zo”n beetje begonnen\, eindigen ze ook. In de Parel van Zuilen. \nSpigt & Band sluiten deze zeer succesvolle tour af met een laatste optreden in De Parel van Zuilen. Dat is fijn\, want de schouwburg in Utrecht\, in december\, is uitverkocht\, evenals het Beauforthuis. Dus mocht je misgegrepen hebben\, dan komt hier de laatste kans. \nReizen is voor veel mensen een poging om te ontsnappen aan de sleur van alledag\, maar we kunnen ons leven ook als een reis beschouwen. Spigt\, ‘Born to be wild’\, en sinds jaar en dag onderweg naar haar publiek: vertelt\, zingt\, lacht en pinkt een traantje weg over haar eigen reis. Met een beetje geluk mag u met haar de route bepalen als zij en haar virtuoze band op een kruising belanden: Linksaf naar ‘Route 66’ \,rechtsaf ‘On The Road ToNowhere’ of op de parking met ‘Steamy Windows’? Riding with the King of met Mustang Sally? And in which car? Mercedes Benz\, Cadillac or A hot Rod Lincoln or a Little Red Corvette? \nZe scheuren allemaal voorbij. Stones\, AC/DC\, Seger\, Nelson\, Joplin\, the Doors\, Spigt & Spanjers zelf en nog veel meer. Frédérique Spigt\, Roel Spanjers (Hammond\, Piano) Janos Koolen (Gitaar\, Banjo\, Klarinet) en Joost van Es (Bas\, Mandoline\, Fiddle).
URL:https://www.deparelvanzuilen.nl/events/extra-concert-frederique-spigt-band-the-road/
CATEGORIES:Evenement
ATTACH;FMTTYPE=image/jpeg:https://www.deparelvanzuilen.nl/wp-content/uploads/2017/08/Spigt.jpg
END:VEVENT
BEGIN:VEVENT
DTSTART;TZID=UTC:20180115T201500
DTEND;TZID=UTC:20180115T223000
DTSTAMP:20260426T000851
CREATED:20171107T115024Z
LAST-MODIFIED:20171220T113702Z
UID:3549-1516047300-1516055400@www.deparelvanzuilen.nl
SUMMARY:Frédérique Spigt & Band | The Road UITVERKOCHT
DESCRIPTION:Waar Spigt\, Spanjers\, Koolen en van Es zo”n beetje begonnen\, eindigen ze ook. In de Parel van Zuilen. \nSpigt & Band sluiten deze zeer succesvolle tour af met een laatste optreden in De Parel van Zuilen. Dat is fijn\, want de schouwburg in Utrecht\, in december\, is uitverkocht\, evenals het Beauforthuis. Dus mocht je misgegrepen hebben\, dan komt hier de laatste kans. \nReizen is voor veel mensen een poging om te ontsnappen aan de sleur van alledag\, maar we kunnen ons leven ook als een reis beschouwen. Spigt\, ‘Born to be wild’\, en sinds jaar en dag onderweg naar haar publiek: vertelt\, zingt\, lacht en pinkt een traantje weg over haar eigen reis. Met een beetje geluk mag u met haar de route bepalen als zij en haar virtuoze band op een kruising belanden: Linksaf naar ‘Route 66’ \,rechtsaf ‘On The Road To Nowhere’ of op de parking met ‘Steamy Windows’? Riding with the King of met Mustang Sally? And in which car? Mercedes Benz\, Cadillac or A hot Rod Lincoln or a Little Red Corvette? \nZe scheuren allemaal voorbij. Stones\, AC/DC\, Seger\, Nelson\, Joplin\, the Doors\, Spigt & Spanjers zelf en nog veel meer. Frédérique Spigt\, Roel Spanjers (Hammond\, Piano) Janos Koolen (Gitaar\, Banjo\, Klarinet) en Joost van Es (Bas\, Mandoline\, Fiddle). \nInmiddels zijn in korte tijd de zitplaatsen al uitverkocht. Je kunt dus alleen nog een hang-leun-staanplaats kopen. \n  \n \n 
URL:https://www.deparelvanzuilen.nl/events/frederique-spigt-band-the-road/
ATTACH;FMTTYPE=image/jpeg:https://www.deparelvanzuilen.nl/wp-content/uploads/2017/08/Spigt.jpg
END:VEVENT
BEGIN:VEVENT
DTSTART;TZID=UTC:20180122T201500
DTEND;TZID=UTC:20180122T221500
DTSTAMP:20260426T000851
CREATED:20171129T120327Z
LAST-MODIFIED:20171129T120632Z
UID:3907-1516652100-1516659300@www.deparelvanzuilen.nl
SUMMARY:David Munnelly & Shane Mc Gowan
DESCRIPTION:David en Shane zijn geen onbekenden in De Parel van Zuilen. Dit ijzersterke duo is hier al eerder geweest. \nDavid Munnelly is enig in zijn soort op de diatonische trekzak en het gitaarspel van Shane MacGowan is op zijn minst virtuoos te noemen. \nBeiden zijn Iers\, maar de gebruikelijke whisky-en-bierliederen blijven hier achterwege. In plaats daarvan brengen zij muziek\, duidelijk met de Ierse roots\, die heel andere paden inslaat. \nEen van de nummers van David Munnelly\, getiteld ‘The Pearl\, is speciaal voor De Parel van Zuilen geschreven. Luister maar. \nEn voor iets anders\, klik hier. \nEen kaartje kost 15\,– en voor Upashouders 13\,– \n 
URL:https://www.deparelvanzuilen.nl/events/david-munnelly-shane-mc-gowan/
ATTACH;FMTTYPE=image/jpeg:https://www.deparelvanzuilen.nl/wp-content/uploads/Duo-Mc-G-M.jpg
END:VEVENT
BEGIN:VEVENT
DTSTART;TZID=UTC:20180125T201500
DTEND;TZID=UTC:20180125T220000
DTSTAMP:20260426T000851
CREATED:20171109T095722Z
LAST-MODIFIED:20171129T123617Z
UID:3650-1516911300-1516917600@www.deparelvanzuilen.nl
SUMMARY:Akoestische Kamer 25 januari 2018
DESCRIPTION:De Akoestische Kamer is een initiatief van David Munnelly en brengt op 25 januari een bijzonder duo. \nDe Ierse Shane Mc Gowan en de Iraanse Hamid Behzadian vinden elkaar in de traditie van hun eigen muzikale achtergrond. Ze ontwikkelden zich beiden tot muzikanten die de nieuwsgierigheid niet konden bedwingen om uit hun eigen confortzone te stappen. \nZowel Shane als Hamid hebben hun muzikale werkveld verbreed naar andere genres\, maar altijd met muzikale sporen uit hun geboorteland. \n 
URL:https://www.deparelvanzuilen.nl/events/akoestische-kamer/
END:VEVENT
BEGIN:VEVENT
DTSTART;TZID=UTC:20180127T023000
DTEND;TZID=UTC:20180128T230000
DTSTAMP:20260426T000851
CREATED:20171220T091848Z
LAST-MODIFIED:20180129T095046Z
UID:4211-1517020200-1517180400@www.deparelvanzuilen.nl
SUMMARY:Het weekend van The Beatles
DESCRIPTION:Op zaterdag 27 januari en zondag 28 januari presenteert De Parel van Zuilen een uniek Beatles-weekend. Livemuziek van The Beatles tribute band ‘One After 909’ en een menu naar keuze van onze lekkere kaart. \nVier jochies in oorlogstijd\, geboren in Liverpool formeren een bandje met een ongekende afloop. Ze werden ‘beroemder dan Jezus’\, zoals John Lennon zich eens niet zonder gevolgen liet ontvallen. \nWe kennen de band allemaal. Maar het verhaal niet. Waarom de lol er na een tijdje wel af ging\, dat het nummer ‘Help’ niet uit de lucht kwam vallen\, dat toeren bijna onmogelijk werd. Maar ook dat de hechte vriendschap deze band zo weergaloos succesvol heeft gemaakt. \n 
URL:https://www.deparelvanzuilen.nl/events/het-weekend-van-the-beatles/
CATEGORIES:Evenement
END:VEVENT
BEGIN:VEVENT
DTSTART;TZID=UTC:20180129T201500
DTEND;TZID=UTC:20180129T220000
DTSTAMP:20260426T000851
CREATED:20171215T113800Z
LAST-MODIFIED:20191018T074819Z
UID:4052-1517256900-1517263200@www.deparelvanzuilen.nl
SUMMARY:Helge
DESCRIPTION:Helge (voluit: Helge Slikker) heeft zijn sporen reeds verdiend als componist voor theater en film. Voor de muziek van de film Kauwboy werd hij onderscheiden met een Gouden Kalf. Ook was de geboren en getogen Utrechter frontman van de Americana band Storybox en vormde hij de helft van het duo Miss Molly & Me\, waarmee hij de wereld rond toerde. \nIn 2017 bracht hij zijn eerste soloalbum uit getiteld: The Days Of Young Petty Davis (V2). Op de plaat heeft hij zich laten inspireren door de tijd dat hij als jonge jongen luisterde naar de muziek die zijn vader opzette. Dit waren onder andere Neil Young\, Tom Petty en Miles Davis. OOR magazine noemt de plaat ‘een ode aan de muziek’. Muzine zegt: ‘Gevoelig\, oprecht en tijdloos zijn de nummers die Helge ons voorschotelt’.  Paul de Munnik noemt hem ‘een van de meest bijzondere en productieve liedjesschrijvers die we in Nederland hebben’. \n 
URL:https://www.deparelvanzuilen.nl/events/helge/
END:VEVENT
END:VCALENDAR