BEGIN:VCALENDAR
VERSION:2.0
PRODID:-//De Parel van Zuilen - ECPv6.15.20//NONSGML v1.0//EN
CALSCALE:GREGORIAN
METHOD:PUBLISH
X-WR-CALNAME:De Parel van Zuilen
X-ORIGINAL-URL:https://www.deparelvanzuilen.nl
X-WR-CALDESC:Evenementen voor De Parel van Zuilen
REFRESH-INTERVAL;VALUE=DURATION:PT1H
X-Robots-Tag:noindex
X-PUBLISHED-TTL:PT1H
BEGIN:VTIMEZONE
TZID:UTC
BEGIN:STANDARD
TZOFFSETFROM:+0000
TZOFFSETTO:+0000
TZNAME:UTC
DTSTART:20160101T000000
END:STANDARD
END:VTIMEZONE
BEGIN:VEVENT
DTSTART;TZID=UTC:20171106T201500
DTEND;TZID=UTC:20171106T220000
DTSTAMP:20260426T012804
CREATED:20170927T090945Z
LAST-MODIFIED:20170927T091355Z
UID:2805-1509999300-1510005600@www.deparelvanzuilen.nl
SUMMARY:Jimmy Davis
DESCRIPTION:In Texas en verre omstreken is Jimmy Daddy\, zoals hij daar genoemd wordt\, een gewaardeerd lid van het songwriterscollectief ‘Walt Wilkins & The Mystiqueros’ en speelt hij daarnaast solo jaarlijks meer dan 150 shows door heel Amerika. Niet verwonderlijk want weinig artiesten hebben een weg afgelegd zoals Jimmy . Gezegend met een veelkleurige\, ijzeren stem en een niet te temperen energie is hij een regelrechte showstopper. Zijn verleden als MTV rockstar\, bluegrass fenomeen en songwriter is niet bij iedereen bekend maar het is een onuitputtelijke inspiratiebron gebleken voor zijn liedjes. Daarnaast is hij een wandelende encylopedie als het gaat om de highlights én onbekendere parels uit het Americana-repertoire. Hij zong koortjes met Emmylou Harris en werkte samen met mensen als Bernie Leadon. Dit warmbloedige podiumbeest met een groot hart voor mensen en muziek komt eindelijk solo naar Nederland. Met Bart de Win\, waarmee hij al jarenlang samenwerkt in Texas\, gaat hij voor onvergetelijke avonden zorgen. Zoveel is zeker. \nEen kaartje kost € 15\,– \n 
URL:https://www.deparelvanzuilen.nl/events/jimmy-davis/
ATTACH;FMTTYPE=image/jpeg:https://www.deparelvanzuilen.nl/wp-content/uploads/2017/09/jimmy-davis.jpg
END:VEVENT
BEGIN:VEVENT
DTSTART;TZID=UTC:20171113T201500
DTEND;TZID=UTC:20171113T220000
DTSTAMP:20260426T012804
CREATED:20170927T092756Z
LAST-MODIFIED:20171110T101418Z
UID:2813-1510604100-1510610400@www.deparelvanzuilen.nl
SUMMARY:Doug MacLeod
DESCRIPTION:MacLeod is bekend vanwege zijn mooie teksten\, gitaarvirtuositeit en zijn warme soul-stem. Hijs is de winnaar van vele Blues-awards\, onlangs nog in 2017 de Blues Music Award voor ‘Acoustic Artist of the year’ en de Blues Blast Music Award voor ‘Male artist of the year’. \nDoug MacLeod’s nieuwste album\, ‘Break The Chain’\, is hoogstwaarschijnlijk zijn sterkste album. Elk liedje is extreem persoonlijk en tegelijkertijd universeel. \nUit een recensie van Fons Delemarre van Bluesmagazine \n“Break The Chain’ is een onderhoudend album. Gezien de titel\, de coverfoto én zijn staat van dienst dacht ik dat het album het zoveelste afscheidsdocument was van een gewaardeerde en gelouterde muzikant (Joey Ramone\, Johnny Cash\, David Bowie\, Leonard Cohen etc.). Dat blijkt gelukkig niet het geval\, maar ‘Break The Chain’ is wél een intrigerend album. MacLeod laat zich van zijn beste kant zien als muzikant\, componist én verteller. Want verhalen vertellen\, dat kan MacLeod. Soms een tikje onderkoeld\, met een prima gevoel voor understatement. Soms bijna hilarisch (Who’s Driving This Bus?) en soms ook gewoon gevoelig.”
URL:https://www.deparelvanzuilen.nl/events/doug-macleod/
END:VEVENT
BEGIN:VEVENT
DTSTART;TZID=UTC:20171120T201500
DTEND;TZID=UTC:20171120T220000
DTSTAMP:20260426T012804
CREATED:20170927T094129Z
LAST-MODIFIED:20171120T110922Z
UID:2818-1511208900-1511215200@www.deparelvanzuilen.nl
SUMMARY:Iain Matthews & Southern Comfort | UITVERKOCHT
DESCRIPTION:Iain Matthews is vooral en eerst bekend als grondlegger van de innovatieve band Fairport Convention\, waarmee hij het geluid van de folkmusic flink heeft beinvloed. Zijn latere band Southern Comfort had een nummer 1-hit in Amerika met Joni Mitchells ‘Woodstock’. \nMet Plainsong\, een andere groep\, bracht hij zijn kwaliteiten als singer-songwriter en gitarist definitief over het voetlicht\, samen mt zijn Fairportmaatjes Sandy Denny en Richard Thompson. \nMet Plainsong was Iain Mattews al eerder in De Parel van Zuilen. \nDIT CONCERT IS UITVERKOCHT \n 
URL:https://www.deparelvanzuilen.nl/events/iain-matthews-southern-comfort/
END:VEVENT
BEGIN:VEVENT
DTSTART;TZID=UTC:20171127T201500
DTEND;TZID=UTC:20171127T220000
DTSTAMP:20260426T012804
CREATED:20170927T100202Z
LAST-MODIFIED:20170927T100202Z
UID:2823-1511813700-1511820000@www.deparelvanzuilen.nl
SUMMARY:Cicada Rhytm
DESCRIPTION:Dit talentvolle duo is geboren en getogen in Georgia. De naam ‘Cicada Rhytm’ past wonderwel bij de sfeer van hun muziek. Ze brengen een openhartige mix van folk\, jazz en blues in schitterende eenvoudige liedjes. en brengen je in de sfeer van de Zuidelijke luchten en geuren\, vermengd met het zoemen van insecten en het ruisen van de bomen. \nEr valt veel te zeggen\, maar luisteren is misschien wel het beste. \nKlik hier voor een voorproefje. \n 
URL:https://www.deparelvanzuilen.nl/events/cicada-rhytm/
ATTACH;FMTTYPE=image/jpeg:https://www.deparelvanzuilen.nl/wp-content/uploads/2017/09/Cicada.jpg
END:VEVENT
BEGIN:VEVENT
DTSTART;TZID=UTC:20171130T201500
DTEND;TZID=UTC:20171130T201500
DTSTAMP:20260426T012804
CREATED:20170919T141029Z
LAST-MODIFIED:20171128T094924Z
UID:2682-1512072900-1512072900@www.deparelvanzuilen.nl
SUMMARY:De Akoestische kamer met David Munnelly en Ies Muller
DESCRIPTION:De Akoestische Kamer is een initiatief van David Munnelly. \nIn November begint een nieuwe reeks concerten in de welbekende concertlocatie De Parel Van Zuilen: “Acoustic Only”.\nDeze concerten hebben twee belangrijke oogmerken:\nTen eerste om de muziek in zijn meest pure vorm te brengen. In solo en duo acts zien en horen we niets anders dan de artiesten en hun instrument.\nTen tweede is het de bedoeling om luisteraars op deze manier een unieke ervaring te bieden. Het gaat om kleinschalige\, heel persoonlijke concerten waarbij het publiek min of meer naast de muzikanten zit. Ook omdat het aantal zitplaatsen beperkt is belooft het een prachtige muzikale ervaring te worden.\nHet Duo Muller & Munnelly werd gevormd door hun gezamelijke liefde voor het presenteren van diep gewortelde muziek in hun eigen iconische stijl.\nZowel Ies als David kwamen op heel jonge leeftijd in aanraking met folk muziek\, maar vanuit verschillende achtergronden. Terwijl Ies veel verschillende stijlen te horen kreeg en op zoek ging naar de roots\, kwam David ironisch genoeg precies van de andere kant. Hij begon bij de wortel van de traditie om zich daarna steeds breder te ontwikkelen.
URL:https://www.deparelvanzuilen.nl/events/de-akoestische-kamer-met-david-munnelly-en-ies-muller/
LOCATION:De Parel van Zuilen
ATTACH;FMTTYPE=image/jpeg:https://www.deparelvanzuilen.nl/wp-content/uploads/2017/09/Ies-en-Dave.jpg
END:VEVENT
END:VCALENDAR