BEGIN:VCALENDAR
VERSION:2.0
PRODID:-//De Parel van Zuilen - ECPv6.15.20//NONSGML v1.0//EN
CALSCALE:GREGORIAN
METHOD:PUBLISH
X-WR-CALNAME:De Parel van Zuilen
X-ORIGINAL-URL:https://www.deparelvanzuilen.nl
X-WR-CALDESC:Evenementen voor De Parel van Zuilen
REFRESH-INTERVAL;VALUE=DURATION:PT1H
X-Robots-Tag:noindex
X-PUBLISHED-TTL:PT1H
BEGIN:VTIMEZONE
TZID:UTC
BEGIN:STANDARD
TZOFFSETFROM:+0000
TZOFFSETTO:+0000
TZNAME:UTC
DTSTART:20160101T000000
END:STANDARD
END:VTIMEZONE
BEGIN:VEVENT
DTSTART;TZID=UTC:20170904T201500
DTEND;TZID=UTC:20170904T221500
DTSTAMP:20260422T045012
CREATED:20170822T093846Z
LAST-MODIFIED:20170831T125039Z
UID:2588-1504556100-1504563300@www.deparelvanzuilen.nl
SUMMARY:Looping Brothers
DESCRIPTION:Het is niet voor niets dat de naam ‘Looping Brothers’ lijkt te verwijzen naar de in americana-kringen zo bekende ‘Louvin Brothers’. \nDe hoog aangeschreven ‘Looping Brothers’ hebben zojuist een prachtige Amerikaanse tournee afgerond. Hun nieuwe album ‘Wrong Road Again’ doet denken aan de beste Amerikaanse producties\, en een avond met de Looping Brothers garandeert meer dan een standaard activering van de lachspieren!” \nDe Looping Brothers spelen typische Bluegrass instrumenten zoals fiddle en banjo\, mandoline en gitaar met een grote selectie van traditionele liedjes en origineel materiaal.  Competent picking wordt gecombineerd met smaakvolle zang.  Een concert met de Looping Brothers brengt je in de atmosferische stemming van de authentieke American Mountain Music en gelardeerd met droge humor.\n De Looping Brothers spelen muziek in de traditie van de oude Brother-Duets en Bluegrass-liedjes. \nEen kaartje kost € 15\,–. \nReserveer je kaartje via de bestelknop en geef dan direct aan of je voorafgaand aan het concert een plaats in ons restaurant wilt reserveren. \nkaarten bestellen
URL:https://www.deparelvanzuilen.nl/events/wordt-aan-gewerkt/
LOCATION:De Parel van Zuilen
CATEGORIES:Parelsessies
ATTACH;FMTTYPE=image/jpeg:https://www.deparelvanzuilen.nl/wp-content/uploads/2017/08/Looping-Brothers.jpg
ORGANIZER;CN="De Parel van Zuilen":MAILTO:info@deparelvanzuilen.nl
END:VEVENT
END:VCALENDAR