BEGIN:VCALENDAR
VERSION:2.0
PRODID:-//De Parel van Zuilen - ECPv6.15.20//NONSGML v1.0//EN
CALSCALE:GREGORIAN
METHOD:PUBLISH
X-WR-CALNAME:De Parel van Zuilen
X-ORIGINAL-URL:https://www.deparelvanzuilen.nl
X-WR-CALDESC:Evenementen voor De Parel van Zuilen
REFRESH-INTERVAL;VALUE=DURATION:PT1H
X-Robots-Tag:noindex
X-PUBLISHED-TTL:PT1H
BEGIN:VTIMEZONE
TZID:UTC
BEGIN:STANDARD
TZOFFSETFROM:+0000
TZOFFSETTO:+0000
TZNAME:UTC
DTSTART:20160101T000000
END:STANDARD
END:VTIMEZONE
BEGIN:VEVENT
DTSTART;TZID=UTC:20170918T201500
DTEND;TZID=UTC:20170918T221500
DTSTAMP:20260421T120741
CREATED:20170822T094354Z
LAST-MODIFIED:20170831T125049Z
UID:2592-1505765700-1505772900@www.deparelvanzuilen.nl
SUMMARY:The Tea Pad Orchestra
DESCRIPTION:Rob Heron & The Tea Pad Orchestra staan garant voor western Swing\, country blues\, lekkere ragtime en.. eigenlijk voor allerlei genres. Voor de volle honder procent eerlijk en bedreven in deze stijlen.\n \nThe Tepad Orchestra begon als een groepje van vier vrienden die zich bezighielden met Folk en traditionele muziek aan de Newcastle University. Inmiddels spelen ze door heel Engeland en Europa. Je hoort invloeden van Bob Wills\, Django Reinhardt\, George Jones tot Cab Calloway. \nHun laatste album ‘Somethin Blue’ kwam uit in juni 2016. \nThe Tea Pad bestaat uit Rob Heron (zang en gitaar)\, Ben Fitzgerald (gitaar)\, Tom Cronin (mandoline en harmonica)\, Colin Nicholson (akkordeon) en Ted Harbot (contrabas). \nEen kaartje kost € 15\,–. \nReserveer via de bestelknop en geef dan gelijk aan of je een plaats in ons restaurant wilt reserveren. \nkaarten bestellen
URL:https://www.deparelvanzuilen.nl/events/wordt-aan-gewerkt-2/
LOCATION:De Parel van Zuilen
CATEGORIES:Parelsessies
ATTACH;FMTTYPE=image/jpeg:https://www.deparelvanzuilen.nl/wp-content/uploads/2017/08/teapad.jpg
ORGANIZER;CN="De Parel van Zuilen":MAILTO:info@deparelvanzuilen.nl
END:VEVENT
BEGIN:VEVENT
DTSTART;TZID=UTC:20170911T201500
DTEND;TZID=UTC:20170911T221500
DTSTAMP:20260421T120741
CREATED:20170822T094148Z
LAST-MODIFIED:20170831T125031Z
UID:2590-1505160900-1505168100@www.deparelvanzuilen.nl
SUMMARY:Texas Troubadours
DESCRIPTION:Havilah Rand en Bruce Salmon vormen samen The Texas Troubadours. Met vijf volwassen albums werd ze gepresenteerd op het Kopenhagen Songwriters Festival 2017\, won ze de Austin Songwriter Group’s Bluebird Contest en stond in het Bluebird Cafe in Nashville. En er zijn nog wel meer wapenfeiten te vermelden. Haar stem doet denken aan zowel die van Joni Mitchell als Nina Simone maar met haar eigen ziel en kracht. \nBruce Salmon is opgegroeid in Texas en deelde het podium met onder meer Alejandro Escovedo en Bob Schneider. Hij startte zijn solocarriere in 2012 en wordt inmiddels gevolgd door een trouwe schare fans van Alaska tot Florida. Hij wordt geinspireerd door de New Orleans jazz\, funk en blues. \nEen concert om niet te missen. \nEen kaartje kost € 15\,– \nReserveer via de bestelknop en geef gelijk aan of je een plaats wilt reserveren in ons restaurant. \nkaarten bestellen
URL:https://www.deparelvanzuilen.nl/events/texas-troubadours/
LOCATION:De Parel van Zuilen
CATEGORIES:Parelsessies
ATTACH;FMTTYPE=image/jpeg:https://www.deparelvanzuilen.nl/wp-content/uploads/2017/08/Toubadours.jpg
ORGANIZER;CN="De Parel van Zuilen":MAILTO:info@deparelvanzuilen.nl
END:VEVENT
BEGIN:VEVENT
DTSTART;TZID=UTC:20170904T201500
DTEND;TZID=UTC:20170904T221500
DTSTAMP:20260421T120741
CREATED:20170822T093846Z
LAST-MODIFIED:20170831T125039Z
UID:2588-1504556100-1504563300@www.deparelvanzuilen.nl
SUMMARY:Looping Brothers
DESCRIPTION:Het is niet voor niets dat de naam ‘Looping Brothers’ lijkt te verwijzen naar de in americana-kringen zo bekende ‘Louvin Brothers’. \nDe hoog aangeschreven ‘Looping Brothers’ hebben zojuist een prachtige Amerikaanse tournee afgerond. Hun nieuwe album ‘Wrong Road Again’ doet denken aan de beste Amerikaanse producties\, en een avond met de Looping Brothers garandeert meer dan een standaard activering van de lachspieren!” \nDe Looping Brothers spelen typische Bluegrass instrumenten zoals fiddle en banjo\, mandoline en gitaar met een grote selectie van traditionele liedjes en origineel materiaal.  Competent picking wordt gecombineerd met smaakvolle zang.  Een concert met de Looping Brothers brengt je in de atmosferische stemming van de authentieke American Mountain Music en gelardeerd met droge humor.\n De Looping Brothers spelen muziek in de traditie van de oude Brother-Duets en Bluegrass-liedjes. \nEen kaartje kost € 15\,–. \nReserveer je kaartje via de bestelknop en geef dan direct aan of je voorafgaand aan het concert een plaats in ons restaurant wilt reserveren. \nkaarten bestellen
URL:https://www.deparelvanzuilen.nl/events/wordt-aan-gewerkt/
LOCATION:De Parel van Zuilen
CATEGORIES:Parelsessies
ATTACH;FMTTYPE=image/jpeg:https://www.deparelvanzuilen.nl/wp-content/uploads/2017/08/Looping-Brothers.jpg
ORGANIZER;CN="De Parel van Zuilen":MAILTO:info@deparelvanzuilen.nl
END:VEVENT
END:VCALENDAR