BEGIN:VCALENDAR
VERSION:2.0
PRODID:-//De Parel van Zuilen - ECPv6.15.20//NONSGML v1.0//EN
CALSCALE:GREGORIAN
METHOD:PUBLISH
X-WR-CALNAME:De Parel van Zuilen
X-ORIGINAL-URL:https://www.deparelvanzuilen.nl
X-WR-CALDESC:Evenementen voor De Parel van Zuilen
REFRESH-INTERVAL;VALUE=DURATION:PT1H
X-Robots-Tag:noindex
X-PUBLISHED-TTL:PT1H
BEGIN:VTIMEZONE
TZID:UTC
BEGIN:STANDARD
TZOFFSETFROM:+0000
TZOFFSETTO:+0000
TZNAME:UTC
DTSTART:20160101T000000
END:STANDARD
END:VTIMEZONE
BEGIN:VEVENT
DTSTART;TZID=UTC:20171016T201500
DTEND;TZID=UTC:20171016T221500
DTSTAMP:20260422T080307
CREATED:20170921T120028Z
LAST-MODIFIED:20170925T152627Z
UID:2719-1508184900-1508192100@www.deparelvanzuilen.nl
SUMMARY:Simon Keats & Band
DESCRIPTION:De artiestennaam Simon Keats klinkt als een internationale naam met faam maar hij is nog beter bekend als de toetsenist van The Kik\, Paul Zoontjens. \nIn 2011 besloot hij zonder connecties en met minimaal budget een maand lang in Los Angeles te verblijven\, om te kijken wat er muzikaal gebeuren kan. Omdat hij daar van de ene verbazing in de andere viel schreef hij er een boek over\, genaamd ‘Mr. Nobody 370’ en nam de L.A. sessions op – opgenomen en geschreven in Los Angeles met verschillende artiesten en producers. \nNa zijn avontuur in L.A. eind 2011 werd de aandacht verdeeld tussen zijn inmiddels nieuwe band The Kik en zijn solocarrière. Vooral in de beginjaren was er amper tijd om überhaupt te denken aan optreden of platen opnemen. Tot daar eind 2015 verandering in kwam. Hij vertrok naar New York om zijn ‘folky roots’ te vinden. Hij nam er een liedje op met producer Steve Addabbo (producer van o.a. Bob Dylan en Lou Reed). Het liedje heet ‘Come to my bedside\, my darling’ en behoort toe aan Eric Andersen; één van de voorlopers van de Greenwich Village Folkbeweging in de jaren ‘60 samen met o.a. Phil Ochs\, Bob Dylan en Dave von Ronk. \nInmiddels is The Simon Keats Show begonnen; een mix tussen talk- en muziekshow met elke maand een bekende artiest\, te volgen via livestreams van Facebook en Youtube. \nKom luisteren en kijken naar deze spannende parelsessie. \nEen kaartje kost € 15\,–
URL:https://www.deparelvanzuilen.nl/events/simon-keats-band/
ATTACH;FMTTYPE=image/jpeg:https://www.deparelvanzuilen.nl/wp-content/uploads/2017/09/Simon-Keats.jpg
END:VEVENT
BEGIN:VEVENT
DTSTART;TZID=UTC:20171009T201500
DTEND;TZID=UTC:20171009T221500
DTSTAMP:20260422T080307
CREATED:20170831T121115Z
LAST-MODIFIED:20171001T115717Z
UID:2628-1507580100-1507587300@www.deparelvanzuilen.nl
SUMMARY:The Lasses & Kathryn Claire
DESCRIPTION:Vorig jaar namen ze bij ons een live-album op. Dat album is nu uit\, en volgens OOR is het “een parel voor de folk”. Heel toepasselijk\, vinden wij. \nHet Vlaamse Rootstime schreef “Balsem voor de ziel\, voedsel voor de oren en vreugde voor het hart\, zo mooi\, ja ZO MOOI!” Dan weet u het wel. Op 9 oktober zijn ze terug bij de Parelsessies: Sophie Janna\, Margot Merah (samen The Lasses) en de Amerikaanse Kathryn Claire. \nDeze drie vrouwen zingen geweldige liedjes uit Amerika\, Ierland en Schotland en eigen werk in die mooie folktraditie. Na een toevallige ontmoeting in Mulligans Irish Bar in Amsterdam drie jaar geleden besloten de drie vrouwen samen door Amerika te toeren\, langs de westkust van Oregon en Washington. Een Nederlandse tournee volgde al gauw. Inmiddels zijn Margot\, Kathryn en Sophie al toe aan de zevende tour samen. Elke keer komen er nieuwe liedjes bij over het reizen\, het leven en de liefde. \nThe Lasses weten als geen ander de passie en de verhalen uit de folk voor het voetlicht te brengen. Op 9 oktober kunt u Margot Merah (zang\, gitaar\, mondharmonica)\, Kathryn Claire (zang\, viool\, gitaar) en Sophie Janna (zang\, bodhrán\, gitaar) weer op ons podium aanschouwen. De vorige keer was het uitverkocht\, dus reserveer snel uw kaartje! \nEen kaartje kost € 15\,–
URL:https://www.deparelvanzuilen.nl/events/the-lasses-kathryn-claire/
LOCATION:De Parel van Zuilen
CATEGORIES:Parelsessies
ATTACH;FMTTYPE=image/jpeg:https://www.deparelvanzuilen.nl/wp-content/uploads/2017/08/coverphoto-live.jpg
END:VEVENT
BEGIN:VEVENT
DTSTART;TZID=UTC:20171002T201500
DTEND;TZID=UTC:20171002T221500
DTSTAMP:20260422T080307
CREATED:20170822T094942Z
LAST-MODIFIED:20170911T132559Z
UID:2597-1506975300-1506982500@www.deparelvanzuilen.nl
SUMMARY:Frédérique Spigt | UITVERKOCHT
DESCRIPTION:De laatste programma’s van Spigt waren stuk voor stuk succesvol en spraakmakend. Nu is er een nieuw programma\, waar wij ons erg op verheugen\, getiteld ‘The Road’\, met Janos Koolen\, Joost van Es en Roel Spanjers. Ook niet de minsten. \nReizen is voor veel mensen een poging om te ontsnappen aan de sleur van alledag\, maar we kunnen ons leven ook als een reis beschouwen. Spigt\, ‘Born to be wild’\, en sinds jaar en dag onderweg naar haar publiek: vertelt\, zingt\, lacht en pinkt een traantje weg over haar eigen reis. Met een beetje geluk mag u met haar de route bepalen als zij en haar virtuoze band op een kruising belanden: Linksaf naar ‘Route 66’ \,rechtsaf ‘On The Road To Nowhere’ of op de parking met ‘Steamy Windows’? Riding with the King of met Mustang Sally? And in which car? Mercedes Benz\, Cadillac or A hot Rod Lincoln or a Little Red Corvette? \nZe scheuren allemaal voorbij. Stones\, AC/DC\, Seger\, Nelson\, Joplin\, the Doors\, Spigt & Spanjers zelf en nog veel meer. Frédérique Spigt\, Roel Spanjers (Hammond\, Piano) Janos Koolen (Gitaar\, Banjo\, Klarinet) en Joost van Es (Bas\, Mandoline\, Fiddle). \nDeze parelsessie is uitverkocht 
URL:https://www.deparelvanzuilen.nl/events/frederique-spigt-the-road/
LOCATION:De Parel van Zuilen
CATEGORIES:Parelsessies
ATTACH;FMTTYPE=image/jpeg:https://www.deparelvanzuilen.nl/wp-content/uploads/2017/08/Spigt.jpg
ORGANIZER;CN="De Parel van Zuilen":MAILTO:info@deparelvanzuilen.nl
END:VEVENT
BEGIN:VEVENT
DTSTART;TZID=UTC:20170925T201500
DTEND;TZID=UTC:20170925T221500
DTSTAMP:20260422T080307
CREATED:20170822T094635Z
LAST-MODIFIED:20170831T125024Z
UID:2594-1506370500-1506377700@www.deparelvanzuilen.nl
SUMMARY:Lenny Kuhr
DESCRIPTION:De biografie van Lenny Kuhr is lang en indrukwekkend. Al eerder trad ze op in De Parel van Zuilen. Toen was voor ons publiek al snel duidelijk\, het mag dan misschien een tijdje wat stiller geweest zijn rond Kuhr\, maar dat komt niet door de kwaliteit en diepgang. Op veler verzoek komt ze dan ook terug. Met een nieuw programma dat dit seizoen van start gaat\, getiteld ‘Gekust door de Eeuwigheid’. \nWie houdt van een schitterende stem\, poëtische teksten en een verpletterende rijkdom aan ervaring kan hier in De Parel van Zuilen zijn hart ophalen. \nZij zegt zelf: “Heimwee is de kracht die kunstenaars en mystici boven de vorm uit laat stijgen. Het kan ons naar de plek leiden waar heldere inzichten te vinden zijn en waar je\, als je je er voor open stelt\, uiteindelijk wordt gekust door de eeuwigheid.” \nEen kaartje kost 15\,–. Reserveer via de bestelknop en geef dan gelijk aan of je een plaats in ons restaurant wilt reserveren. \nkaarten bestellen
URL:https://www.deparelvanzuilen.nl/events/lenny-kuhr/
LOCATION:De Parel van Zuilen
CATEGORIES:Parelsessies
ATTACH;FMTTYPE=image/jpeg:https://www.deparelvanzuilen.nl/wp-content/uploads/2017/08/Lenny-Kuhr.jpg
END:VEVENT
BEGIN:VEVENT
DTSTART;TZID=UTC:20170918T201500
DTEND;TZID=UTC:20170918T221500
DTSTAMP:20260422T080307
CREATED:20170822T094354Z
LAST-MODIFIED:20170831T125049Z
UID:2592-1505765700-1505772900@www.deparelvanzuilen.nl
SUMMARY:The Tea Pad Orchestra
DESCRIPTION:Rob Heron & The Tea Pad Orchestra staan garant voor western Swing\, country blues\, lekkere ragtime en.. eigenlijk voor allerlei genres. Voor de volle honder procent eerlijk en bedreven in deze stijlen.\n \nThe Tepad Orchestra begon als een groepje van vier vrienden die zich bezighielden met Folk en traditionele muziek aan de Newcastle University. Inmiddels spelen ze door heel Engeland en Europa. Je hoort invloeden van Bob Wills\, Django Reinhardt\, George Jones tot Cab Calloway. \nHun laatste album ‘Somethin Blue’ kwam uit in juni 2016. \nThe Tea Pad bestaat uit Rob Heron (zang en gitaar)\, Ben Fitzgerald (gitaar)\, Tom Cronin (mandoline en harmonica)\, Colin Nicholson (akkordeon) en Ted Harbot (contrabas). \nEen kaartje kost € 15\,–. \nReserveer via de bestelknop en geef dan gelijk aan of je een plaats in ons restaurant wilt reserveren. \nkaarten bestellen
URL:https://www.deparelvanzuilen.nl/events/wordt-aan-gewerkt-2/
LOCATION:De Parel van Zuilen
CATEGORIES:Parelsessies
ATTACH;FMTTYPE=image/jpeg:https://www.deparelvanzuilen.nl/wp-content/uploads/2017/08/teapad.jpg
ORGANIZER;CN="De Parel van Zuilen":MAILTO:info@deparelvanzuilen.nl
END:VEVENT
BEGIN:VEVENT
DTSTART;TZID=UTC:20170911T201500
DTEND;TZID=UTC:20170911T221500
DTSTAMP:20260422T080307
CREATED:20170822T094148Z
LAST-MODIFIED:20170831T125031Z
UID:2590-1505160900-1505168100@www.deparelvanzuilen.nl
SUMMARY:Texas Troubadours
DESCRIPTION:Havilah Rand en Bruce Salmon vormen samen The Texas Troubadours. Met vijf volwassen albums werd ze gepresenteerd op het Kopenhagen Songwriters Festival 2017\, won ze de Austin Songwriter Group’s Bluebird Contest en stond in het Bluebird Cafe in Nashville. En er zijn nog wel meer wapenfeiten te vermelden. Haar stem doet denken aan zowel die van Joni Mitchell als Nina Simone maar met haar eigen ziel en kracht. \nBruce Salmon is opgegroeid in Texas en deelde het podium met onder meer Alejandro Escovedo en Bob Schneider. Hij startte zijn solocarriere in 2012 en wordt inmiddels gevolgd door een trouwe schare fans van Alaska tot Florida. Hij wordt geinspireerd door de New Orleans jazz\, funk en blues. \nEen concert om niet te missen. \nEen kaartje kost € 15\,– \nReserveer via de bestelknop en geef gelijk aan of je een plaats wilt reserveren in ons restaurant. \nkaarten bestellen
URL:https://www.deparelvanzuilen.nl/events/texas-troubadours/
LOCATION:De Parel van Zuilen
CATEGORIES:Parelsessies
ATTACH;FMTTYPE=image/jpeg:https://www.deparelvanzuilen.nl/wp-content/uploads/2017/08/Toubadours.jpg
ORGANIZER;CN="De Parel van Zuilen":MAILTO:info@deparelvanzuilen.nl
END:VEVENT
BEGIN:VEVENT
DTSTART;TZID=UTC:20170904T201500
DTEND;TZID=UTC:20170904T221500
DTSTAMP:20260422T080307
CREATED:20170822T093846Z
LAST-MODIFIED:20170831T125039Z
UID:2588-1504556100-1504563300@www.deparelvanzuilen.nl
SUMMARY:Looping Brothers
DESCRIPTION:Het is niet voor niets dat de naam ‘Looping Brothers’ lijkt te verwijzen naar de in americana-kringen zo bekende ‘Louvin Brothers’. \nDe hoog aangeschreven ‘Looping Brothers’ hebben zojuist een prachtige Amerikaanse tournee afgerond. Hun nieuwe album ‘Wrong Road Again’ doet denken aan de beste Amerikaanse producties\, en een avond met de Looping Brothers garandeert meer dan een standaard activering van de lachspieren!” \nDe Looping Brothers spelen typische Bluegrass instrumenten zoals fiddle en banjo\, mandoline en gitaar met een grote selectie van traditionele liedjes en origineel materiaal.  Competent picking wordt gecombineerd met smaakvolle zang.  Een concert met de Looping Brothers brengt je in de atmosferische stemming van de authentieke American Mountain Music en gelardeerd met droge humor.\n De Looping Brothers spelen muziek in de traditie van de oude Brother-Duets en Bluegrass-liedjes. \nEen kaartje kost € 15\,–. \nReserveer je kaartje via de bestelknop en geef dan direct aan of je voorafgaand aan het concert een plaats in ons restaurant wilt reserveren. \nkaarten bestellen
URL:https://www.deparelvanzuilen.nl/events/wordt-aan-gewerkt/
LOCATION:De Parel van Zuilen
CATEGORIES:Parelsessies
ATTACH;FMTTYPE=image/jpeg:https://www.deparelvanzuilen.nl/wp-content/uploads/2017/08/Looping-Brothers.jpg
ORGANIZER;CN="De Parel van Zuilen":MAILTO:info@deparelvanzuilen.nl
END:VEVENT
END:VCALENDAR