BEGIN:VCALENDAR
VERSION:2.0
PRODID:-//De Parel van Zuilen - ECPv6.15.20//NONSGML v1.0//EN
CALSCALE:GREGORIAN
METHOD:PUBLISH
X-WR-CALNAME:De Parel van Zuilen
X-ORIGINAL-URL:https://www.deparelvanzuilen.nl
X-WR-CALDESC:Evenementen voor De Parel van Zuilen
REFRESH-INTERVAL;VALUE=DURATION:PT1H
X-Robots-Tag:noindex
X-PUBLISHED-TTL:PT1H
BEGIN:VTIMEZONE
TZID:UTC
BEGIN:STANDARD
TZOFFSETFROM:+0000
TZOFFSETTO:+0000
TZNAME:UTC
DTSTART:20240101T000000
END:STANDARD
END:VTIMEZONE
BEGIN:VEVENT
DTSTART;TZID=UTC:20250515T201500
DTEND;TZID=UTC:20250515T220000
DTSTAMP:20260422T015701
CREATED:20250414T111101Z
LAST-MODIFIED:20250515T084823Z
UID:22619-1747340100-1747346400@www.deparelvanzuilen.nl
SUMMARY:Paul van Vlodrop\, Loes van Schaijk en Honza Bartošek | 15 mei 2025
DESCRIPTION:Op donderdag 15 mei om 20.15 uur is het weer zover. Paul van Vlodrop – hier in november 2023 nog met zijn albumrelease ‘Alleycat’ – speelt weer samen met Loes van Schaijk en de Tsjechische Honza Bartošek. \n \nNa jarenlang samen in de band Red Herring te hebben gespeeld staan liedjesschrijver Loes van Schaijk en Bluegrassveteraan Paul van Vlodrop in mei/juni 2025 weer een paar keer samen op een podium. Dit keer brengen ze liedjes van hun solo-albums ten gehore en dat doen ze in twee aparte blokjes en een gezamenlijke afsluiter. Het geheime wapen op viool is de Tsjechische virtuoos Honza Bartošek. Wie houdt van zowel het intieme van singer-songwriter als de kracht van Bluegrass mag dit exclusieve concert niet missen! \nKom vooral kijken en luisteren. En wil je voorafgaand aan deze Parelsessie komen eten? Reserveer dan een plek op 030-8775352. \n 
URL:https://www.deparelvanzuilen.nl/events/paul-van-vlodrop-loes-van-schaijk-en-honza-bartosek-15-mei-2025/
ATTACH;FMTTYPE=image/png:https://www.deparelvanzuilen.nl/wp-content/uploads/2025/04/Paul-van-Vlodrop.png
END:VEVENT
BEGIN:VEVENT
DTSTART;TZID=UTC:20250925T201500
DTEND;TZID=UTC:20250925T220000
DTSTAMP:20260422T015701
CREATED:20250820T094432Z
LAST-MODIFIED:20250820T094617Z
UID:22815-1758831300-1758837600@www.deparelvanzuilen.nl
SUMMARY:25 september | Ies Muller en David Munnelly presenteren: Middle of Life
DESCRIPTION:Hij is er! \n‘Middle’ of life\, het tweede album van Ies Muller en David Munnelly. Ontstaan aan de Ierse westkust\, opgenomen in het Nederlandse rivierenland. \nTijdens dit concert presenteren zij dit album. Tijdloze muziek\, een sprankelende muzikale conversatie die al jaren loopt en zich steeds verder ontwikkelt. Kom luisteren en laat u meevoeren\, het wordt mooi. \nHet Duo Muller & Munnelly speelt diepgewortelde Ierse en Bretonse muziek in hun eigen persoonlijke stijl. Zowel Ies (houten dwarsfluiten) als David (diatonische accordeon\, zang) kwamen op heel jonge leeftijd in aanraking met folkmuziek\, maar vanuit verschillende achtergronden. Terwijl Ies veel verschillende muzikale stijlen te horen kreeg en op zoek ging naar de wortels\, begon David bij de wortel van de Ierse traditie om zich daarna steeds breder te ontwikkelen. \nSamen bewegen ze vrij tussen de Ierse muziek en geïmproviseerde motieven\, met een heel eigen muzikale stem. \nMeer zeggen we niet. Beiden zijn hier al vaak geweest en hebben hun stempel gedrukt op onze al lange reeks Parelsessies.
URL:https://www.deparelvanzuilen.nl/events/25-september-ies-muller-david-munnelly-presenteren-middle-of-life/
ATTACH;FMTTYPE=image/jpeg:https://www.deparelvanzuilen.nl/wp-content/uploads/2025/08/Ies-en-Dave.jpg
END:VEVENT
BEGIN:VEVENT
DTSTART;TZID=UTC:20251030T201500
DTEND;TZID=UTC:20251030T220000
DTSTAMP:20260422T015701
CREATED:20250414T115040Z
LAST-MODIFIED:20250414T115040Z
UID:22625-1761855300-1761861600@www.deparelvanzuilen.nl
SUMMARY:Monroe Crossing | 30 oktober 2025
DESCRIPTION:Dit is niet zo maar een bluegrassbandje uit Amerika. Dit is een behoorlijk forse neus van de zalm\, en na opnieuw lang soebatten is het ons opnieuw gelukt om dit vijftal op ons podium te krijgen. \nVernoemd naar Oervader van de Bluegrass\, Bill Monroe\, weet Monroe Crossing als geen ander zijn publiek te verpletteren met een fantastische mix van klassieke bluegrass\, gospelbluegrass en traditionele originals. Hun superieure muzikaliteit en hun podiumpresentatie tijdens meer dan 150 optreden per jaar hebben heel veel mensen in de VS\, Canada en Europa van deze band overtuigd. \nDe thuisbasis van Monroe Crossing is Twin Cities\, Minnesota. De vijf bandleden hebben verschillende muzikale achtergronden die\, samen met hun eigen verhalen\, gecombineerd worden tot hun eigen unieke geluid. \nDe bandleden zijn: \nDerek Johnson – gitaar en zang\, Lisa Fuglie – viool\, mandoline\, gitaar en zang\, Matt Thompson – mandoline\, viool en achtergrondzang\,  Mark Anderson – bas en zang en David Robinson – banjo\, dobro\, harmonica en achtergrondzang. \nKom genieten van deze heerlijke band. \nHier wat recensies: \n“This band understands and respects the musical principles laid down by Bill Monroe…. ‘Heartache & Stone’ represents their best effort to date. Arrangements are fresh and creative… An enjoyable project loaded with satisfaction.” — Louisville Music News\n“Great tune\, great album\, fine group! The expressiveness of the vocals and the arrangement are terrific\, not to mention the flawless instrumental work!” — Joe Steiner\, Bluegrass DJ\, WLFC\, Findlay\, Ohio
URL:https://www.deparelvanzuilen.nl/events/monroe-crossing-30-oktober-2025/
ATTACH;FMTTYPE=image/jpeg:https://www.deparelvanzuilen.nl/wp-content/uploads/2025/04/Monroe-Crossing-2023-with-instruments.jpg
END:VEVENT
BEGIN:VEVENT
DTSTART;TZID=UTC:20251101T150000
DTEND;TZID=UTC:20251101T203000
DTSTAMP:20260422T015701
CREATED:20251004T152743Z
LAST-MODIFIED:20251101T075947Z
UID:22924-1762009200-1762029000@www.deparelvanzuilen.nl
SUMMARY:1 november | Bockbierfeest
DESCRIPTION:Daar gaan we weer. Op 1 november is ons jaarlijkse bockbierfeest. Van 15.00 uur tot 23.00 uur kun je 11 bekroonde bockbiertjes komen proeven. Waarom geen 12 bockbiertjes\, vraagt u zich misschien af? Welaan\, omdat we ook nog voor sommige mensen gewoon ons goede biologische Ur-pils willen schenken. En natuurlijk voor de bierhaters onder ons\, is er wijn\, fris\, koffie en wat al niet meer. \nDit alles wordt begeleid met lekker eten. Zuurkool met heerlijke worst (ook vegetarisch)\, broodjes beenham\, broodjes (vegetarische) worst\, frieten\, voor als je toch een patatje wilt. \nKortom\, een gezellige dag met muziek\, de fotobooth en proefglaasjes. \nDe voorverkoop is beëindigd. Maar wilt u toch komen? Dat kan. Wel geldt: op=op
URL:https://www.deparelvanzuilen.nl/events/1-november-bockbierfeest/
ATTACH;FMTTYPE=image/jpeg:https://www.deparelvanzuilen.nl/wp-content/uploads/2025/10/Bokbierplaatje-1-novembr.jpg
END:VEVENT
BEGIN:VEVENT
DTSTART;TZID=UTC:20251224T180000
DTEND;TZID=UTC:20251224T230000
DTSTAMP:20260422T015701
CREATED:20251121T140849Z
LAST-MODIFIED:20251121T140849Z
UID:23131-1766599200-1766617200@www.deparelvanzuilen.nl
SUMMARY:Casual Kerstbarbecue | woensdag 24 december
DESCRIPTION:Op woensdag 24 december -kerstavond- pakken we weer uit met onze Casual Kerstbarbecue. Zin in iets bijzonders? Iets anders dan het traditionele familiediner? Iets gezelligs waarbij je zelf tóch niet hoeft te koken? \nMeld je dan aan. \nWoensdag 24 december zijn we vanaf 16 uur open voor een eventuele lekkere borrel vooraf en vanaf 17.00 uur poken we de barbecue op. We zorgen voor een gezellige kerstsfeer in ons restaurant met gezellige muziek. \nWe gaan van alles grillen en bakken. Mooie stukjes vlees\, vegetarische lekkernijen\, prettige groenten begeleid door lekkere knapperige frieten\, sausjes en salade. En wilt u na die hartige barbecuegerechtjes dan nog een zoet dessertje? Dan is dat ook voorhanden\, \nHoe dan ook\, tijdens dat lekkere eten draaien we gezellige muziek en schenken we lekkere bieren\, goede wijnen\, leuke koffies en verse limonades. \nWat wil je eigenlijk nog meer? \nMeld je aan door de Barbecue vast te bestellen. Die kost € 38\,50 maar dan ga je gegarandeerd zonder honger naar huis. En kies dan voor de vegetarische variant als je liever geen vlees eet. \nDoor het bestellen betaalt u € 18\,50 aan. De rest\, plus uw drankjes\, komen die avond zelf wel.
URL:https://www.deparelvanzuilen.nl/events/casual-kerstbarbecue-woensdag-24-december/
ATTACH;FMTTYPE=image/jpeg:https://www.deparelvanzuilen.nl/wp-content/uploads/2021/11/Afbeelding1.jpg
END:VEVENT
BEGIN:VEVENT
DTSTART;TZID=UTC:20251231T130000
DTEND;TZID=UTC:20251231T160000
DTSTAMP:20260422T015701
CREATED:20251121T141438Z
LAST-MODIFIED:20251121T141438Z
UID:23136-1767186000-1767196800@www.deparelvanzuilen.nl
SUMMARY:Oliebollen | 31 december
DESCRIPTION:Het is een beetje een gekke dag. Woensdag. Maar ja\, het is wél oudejaarsdag dus we gaan weer bollen bakken. Mét en zonder rozijnen. \nAls u ons al langer kent\, weet u dat het gezellig is op oudejaarsdag\, want we openen de deuren om 13.00 uur en we sluiten ze om vier uur. In de tussentijd kunt u langskomen voor een kop koffie\, een biertje\, glühwein en natuurlijk een oliebol. U kunt ze ook mee naar huis nemen. \nWilt u ook de jaarlijkse Parelbollen hebben voor oudjaarsavond? Bestel ze dan nu hier.
URL:https://www.deparelvanzuilen.nl/events/oliebollen-31-december/
ATTACH;FMTTYPE=image/jpeg:https://www.deparelvanzuilen.nl/wp-content/uploads/2022/11/oliebol.jpg
END:VEVENT
BEGIN:VEVENT
DTSTART;TZID=UTC:20260115T201500
DTEND;TZID=UTC:20260115T223000
DTSTAMP:20260422T015701
CREATED:20251121T151351Z
LAST-MODIFIED:20251121T151351Z
UID:23140-1768508100-1768516200@www.deparelvanzuilen.nl
SUMMARY:David Munnelly en Macdara Ó Faoláin | 15 januari 2026
DESCRIPTION:De nieuwe muzikale samenwerking tussen David Munnelly en Macdara Ó Faoláin is gebouwd op een fundament van nieuwsgierigheid\, een vergelijkbare achtergrond en vriendschap.  \nBeiden zijn geworteld in traditionele Ierse muziek\, maar willen graag de grenzen tussen genres laten vervagen en zich laten inspireren door jazz\, klassieke muziek en andere volksmuziek van over de hele wereld om hun eigen unieke geluid te creëren. Met een speciale interesse in compositie wil dit nieuwe project het publiek meenemen op een muzikale reis door muziek en lied. \nDavid Munnelly kennen we. Die doet de meest bijzondere dingen op zijn accordeon. Soms denk je\, als je je ogen dicht doet\, dat er twee accordeonisten bezig zijn\, maar het is David alleen. Deze nieuwe samenwerking met Macdara Ó Faoláin maakt nieuwsgierig\, want bouzouki\, viool en accordeon belooft wel wat. Zeker met twee virtuozen aan het roer.
URL:https://www.deparelvanzuilen.nl/events/david-munnelly-en-macdara-o-faolain-15-januari-2026/
ATTACH;FMTTYPE=image/jpeg:https://www.deparelvanzuilen.nl/wp-content/uploads/2025/11/Dave.jpg
END:VEVENT
BEGIN:VEVENT
DTSTART;TZID=UTC:20260214T120000
DTEND;TZID=UTC:20260214T200000
DTSTAMP:20260422T015701
CREATED:20260115T135112Z
LAST-MODIFIED:20260117T173545Z
UID:23498-1771070400-1771099200@www.deparelvanzuilen.nl
SUMMARY:14 februari | Winter-Valentijns Fair
DESCRIPTION:Op 14 februari is het Valentijnsdag. En nog steeds winter. Dus dat schreeuwt om iets leuks\, gezelligs en romantisch. \nDaarom hebben de Stichting MoHuKa (een stichting die zich inzet om het welzijn van mensen te bevorderen) en De Parel van Zuilen de handen ineen geslagen. \nEr komt een Winter/Love Fair. Een leuke dag met gezellige kraampjes\, lekker eten en drinken\, een Vintage kledingbeurs\, gezellige muziek\, een Silent Disco\, vrolijkheid en heel veel hartjes. Overal en nergens. \nLaat u ook rondleden door de moestuin van de Springertuin. Misschien wilt u daarna wel meehelpen en -oogsten. \nDe Winter/Love Fair vindt plaats in de Springertuin en in De Parel van Zuilen en vindt plaats van 12.00 uur tot 20.00 uur. \nKom vooral langs. Het is voor jong en oud en natuurlijk ook (en een beetje vooral) voor mensen die hun geliefde op Valentijnsdag willen verrassen. \nKom op 14 februari dus naar De Springertuin en De Parel van Zuilen en kijk en geniet.
URL:https://www.deparelvanzuilen.nl/events/14-februari-winter-valentijns-fair/
ATTACH;FMTTYPE=image/jpeg:https://www.deparelvanzuilen.nl/wp-content/uploads/2026/01/Winterfair.jpg
END:VEVENT
BEGIN:VEVENT
DTSTART;TZID=UTC:20260306T201500
DTEND;TZID=UTC:20260306T220000
DTSTAMP:20260422T015701
CREATED:20260117T172637Z
LAST-MODIFIED:20260117T173911Z
UID:23503-1772828100-1772834400@www.deparelvanzuilen.nl
SUMMARY:Vrijdag 6 maart | The Truffle Valley Boys
DESCRIPTION:Ze komen terug !!!!! Deze verrukkelijke Italiaanse mannen die hier al eerder het dak van het pand speelden\, de gordijnen deden opwapperen en ons de stoom uit de oren liet komen. \nStap met de Truffle Valley Boys in de tijdmachine en laat je meevoeren naar de begintijd van de bluegrass. Het genre bestaat inmiddels al zo’n 80 jaar en heeft zich in die periode doorontwikkeld in de vorm van kruisbestuivingen met andere genres\, en terecht natuurlijk. Maar hoe lekker is het als een band zich toelegt op de oorsprong: het rauwe\, eerlijke en krachtige geluid van de pioniers uit de jaren ’50. De Truffle Valley Boys beschouwen het als hun missie die sound te eren en in ere te houden. \nDe invloeden en het repertoire van de Truffle Valley Boys komen voort uit hun voorliefde voor obscure bluegrass artiesten uit de jaren ’50. En natuurlijk staan ze daarbij in de klassieke bluegrass-opstelling rondom één microfoon\, in een vloeiende en dynamische choreografie ruimte gevend aan banjo\, dobro\, viool\, mandoline\, contrabas\, gitaar en de onmiskenbare vocale harmonieën. Kortom\, een complete muzikale en visuele reproductie van een bluegrassband van halverwege vorige eeuw. Dat ze inmiddels zijn toegevoegd aan een permanente expositie in de Bluegrass Music Hall Of Fame And Museum in Owensboro\, nota bene als Italiaanse band\, spreekt wat dat betreft boekdelen. Zeg maar gerust een complete encyclopedie. \nThe Truffle Valley Boys verzorgden reeds meerdere shows in Nederland\, op festivals als Zwarte Cross\, Rotterdam Bluegrass Festival en Wild Rooster\, alsmede (uitverkochte) clubshows in Utrecht\, Eindhoven en Arnhem. In 2026 komt de band opnieuw naar ons land\, met een kersverse plaat in de bagage. \nWebsite met o.a. uitgebreide biografie\, video’s en  foto’s: \nhttp://www.trufflevalleyboys.com
URL:https://www.deparelvanzuilen.nl/events/vrijdag-5-maart-the-truffle-valley-boys/
ATTACH;FMTTYPE=image/jpeg:https://www.deparelvanzuilen.nl/wp-content/uploads/2023/01/Truffle-Valley-Boys.jpg
END:VEVENT
BEGIN:VEVENT
DTSTART;TZID=UTC:20260507T201500
DTEND;TZID=UTC:20260507T220000
DTSTAMP:20260422T015701
CREATED:20260117T173659Z
LAST-MODIFIED:20260416T134854Z
UID:23507-1778184900-1778191200@www.deparelvanzuilen.nl
SUMMARY:Donderdag 7 mei | The Tennessee Studs | UITVERKOCHT
DESCRIPTION:Een Canadees\, drie Nederlanders en een Zweed\, die\, voorzien van een batterij snaarinstrumenten én een zingende zaag\, hun versie spelen van bluegrass\, country en Americana: zo zou je\, in -veel te- korte bewoordingen kunnen omschrijven waar deze Amsterdamse bende voor staat. \nZe draaien intussen ruim twintig jaar mee\, wat best lang is voor een band\, die opereert in wat je toch alleen maar een niche-genre kunt noemen: op erg veel air-play hoef je als muzikant niet te rekenen. Je kunt alleen maar concluderen dat je geen twintig jaar samen blijft spelen\, als je niet meer dan gemiddeld gepassioneerd bent door de muziek die je wil maken. Die passie en hun wil om door te breken\, bracht de Amsterdammers meermaals tot in de Verenigde Staten\, waar ze van Oost tot West toerden in gezelschap van hun vrienden van Whiskey Puppy uit Portland\, Oregon. \nAls je op internet wat info over de band gaat opzoeken\, stoot je steevast op de omschrijving “music from the heart”. Dat is hoe de Studs bluegrass in het algemeen en hun versie ervan in het bijzonder omschrijven. Songs over mensen en dingen van alledag\, over liefde en verlies\, over werken of dat niet kunnen of mogen\, over de kans en het onvermogen om als mensen met elkaar om te gaan. Doorgaans noemen we de optelsom van die elementen “folkmuziek” en dat is ook wat de Studs maken: folkmuziek\, gefocust op de Verenigde Staten en hun muzikale erfenis\, maar\, volgens de band zelf\, overgoten met een sausje van “folky\, funky en freaky” elementen. \nKortom\, een bezoekje waard weer\, want ze zijn hier al meerdere keren geweest.
URL:https://www.deparelvanzuilen.nl/events/donderdag-7-mei-the-tennessee-studs/
ATTACH;FMTTYPE=image/jpeg:https://www.deparelvanzuilen.nl/wp-content/uploads/2024/04/Tennessee-Studs.jpg
END:VEVENT
BEGIN:VEVENT
DTSTART;TZID=UTC:20260604T201500
DTEND;TZID=UTC:20260604T223000
DTSTAMP:20260422T015701
CREATED:20260416T064936Z
LAST-MODIFIED:20260416T121420Z
UID:23812-1780604100-1780612200@www.deparelvanzuilen.nl
SUMMARY:Ies Muller en Hamid Reza Behzadian | Donderdag 4 juni
DESCRIPTION:Ies Muller en Hamid Reza Behzadian presenteren ‘Oculus’. \nAlweer flink wat jaar geleden ontmoetten ze elkaar op een avond in Utrecht. Twee muzikanten met repertoire met diepe wortels. Hamid in de Perzische muzikale traditie\, Indiase klassieke muziek en Mississippi delta blues. Ies in Ierse en Bretonse traditionele muziek. \nJaren van samenspelen\, zoeken en van elkaar leren volgden. En nu is eindelijk hun album uit! ‘Oculus’ is een muzikale reis. Van oost naar west met vele vergezichten onderweg. \n  \nHamid Reza Behzadian: Indiase slidegitaar\, resonator gitaar en mondharmonica Ies Muller: houten dwarsfluiten en als speciale gast: Tablaspeler Suresh Sardjoe \n  \nDit duo is om in de gaten te houden. De combinatie van die twee virtuozen doen je de rillingen over de rug lopen.
URL:https://www.deparelvanzuilen.nl/events/ies-muller-en-hamid-reza-behzadian-donderdag-4-juni/
ATTACH;FMTTYPE=image/jpeg:https://www.deparelvanzuilen.nl/wp-content/uploads/2026/04/Hamid-en-Ies-156.jpg
END:VEVENT
BEGIN:VEVENT
DTSTART;TZID=UTC:20260625T201500
DTEND;TZID=UTC:20260625T220000
DTSTAMP:20260422T015701
CREATED:20260117T173741Z
LAST-MODIFIED:20260203T122106Z
UID:23512-1782418500-1782424800@www.deparelvanzuilen.nl
SUMMARY:Donderdag 25 juni | Nadara Gypsy Weddingband
DESCRIPTION:Nadara Gypsy Wedding Band brengt melancholische en virtuoze zigeunermuziek die diep geworteld is in de Roma traditie\, maar ook zeker ruimte laat voor eigen composities. \nDe Parel van Zuilen was al eerder het toneel van deze bijzondere groep. \nIn Nederland is Nadara met eigen danseressen al weer 3 jaar niet geweest. Hun laatste optreden was bv in LUX-Eindhoven\, Grounds – Rotterdam en Mezrab Amsterdam\, Het Beest in Goes en De Neushoorn in Leeuwarden. \nIn Europa stonden zij diverse malen  op Sziget\, Khamorro Festival\, RAF festival etc. Daarnaast verzorgden zij de filmmuziek van diverse zigeunerfilms (bekend in Filmhuizen en alternatief circuit: Gadjo dilo\, Transylvania van Toni Gatlif\, enz) \nDe bandleidster Alexandra zingt vooral in Roma-taal en samen met haar bandleden (viool\, saxofoon\, drum/slagwerk\, basgitaar\, accordeon) en de zigeuner-danseressen staan ze garant voor een dans-feest en gypsy-beleving. \n 
URL:https://www.deparelvanzuilen.nl/events/donderdag-25-juni-nadara-gypsy-weddingband/
ATTACH;FMTTYPE=image/jpeg:https://www.deparelvanzuilen.nl/wp-content/uploads/2026/01/Nadara-1.jpg
END:VEVENT
BEGIN:VEVENT
DTSTART;TZID=UTC:20260910T201500
DTEND;TZID=UTC:20260910T223000
DTSTAMP:20260422T015701
CREATED:20260416T063647Z
LAST-MODIFIED:20260416T063856Z
UID:23808-1789071300-1789079400@www.deparelvanzuilen.nl
SUMMARY:Kristy Cox | donderdag 10 september
DESCRIPTION:Kristy Cox zou hier ooit eerder al spelen\, maar Corona gooide destijds roet in het eten. Maar er is een herkansing dus. En wel dit jaar\, eindelijk… op donderdag 10 september. \nKristy Cox is een prominent figuur in zowel de Australische als de Amerikaanse bluegrassscene en wordt geroemd om haar elegante en wijze benadering van het genre. Bekend als de “Koningin van de Bluegrass”\, maakte ze aanvankelijk naam in de Australische countrymuziekscene en verwierf later bekendheid in de VS met haar Billboard-hitlijsten. Haar nieuwste album\, Let it Burn\, is een gedurfd en genre-verruimend project\, waarin traditionele bluegrass wordt vermengd met elementen van evangelische gospel\, alles gebracht met een vurige passie die het onderscheidt van haar eerdere werk. Dit album heeft haar opnieuw een nummer 1-positie in de Billboard Bluegrass-hitlijst bezorgd. \nMet zes “Bluegrass Recording of the Year”-awards van de Australische CMA Golden Guitar Awards\, waaronder haar winst in 2023 voor het nummer Good Morning Moon\, blijft ze een zeer gerespecteerde en invloedrijke artiest. \nNaast haar succes in Australië is Kristy zes jaar op rij genomineerd geweest voor de International Bluegrass Music Awards (IBMA) in de categorieën Aanstormend Artiest van het Jaar en Vrouwelijke Vocalist van het Jaar. Ze was ook finalist voor Vocalist van het Jaar bij de IBMA Momentum Awards van 2019. Recentelijk ontving ze nominaties voor Vrouwelijke Artiest van het Jaar bij de SPBGMA Bluegrass Music Awards van 2024 en voor Album van het Jaar met haar album Let it Burn bij de SPBGMA Awards van 2025. \n 
URL:https://www.deparelvanzuilen.nl/events/kristy-cox-donderdag-10-september/
ATTACH;FMTTYPE=image/gif:https://www.deparelvanzuilen.nl/wp-content/uploads/2026/04/Kristy-Cox.gif
END:VEVENT
END:VCALENDAR